BEGIN:VCALENDAR
VERSION:2.0
PRODID:-//LBC Vibe - ECPv6.15.20//NONSGML v1.0//EN
CALSCALE:GREGORIAN
METHOD:PUBLISH
X-ORIGINAL-URL:https://lbcvibe.com
X-WR-CALDESC:Events for LBC Vibe
REFRESH-INTERVAL;VALUE=DURATION:PT1H
X-Robots-Tag:noindex
X-PUBLISHED-TTL:PT1H
BEGIN:VTIMEZONE
TZID:America/Los_Angeles
BEGIN:DAYLIGHT
TZOFFSETFROM:-0800
TZOFFSETTO:-0700
TZNAME:PDT
DTSTART:20250309T100000
END:DAYLIGHT
BEGIN:STANDARD
TZOFFSETFROM:-0700
TZOFFSETTO:-0800
TZNAME:PST
DTSTART:20251102T090000
END:STANDARD
BEGIN:DAYLIGHT
TZOFFSETFROM:-0800
TZOFFSETTO:-0700
TZNAME:PDT
DTSTART:20260308T100000
END:DAYLIGHT
BEGIN:STANDARD
TZOFFSETFROM:-0700
TZOFFSETTO:-0800
TZNAME:PST
DTSTART:20261101T090000
END:STANDARD
BEGIN:DAYLIGHT
TZOFFSETFROM:-0800
TZOFFSETTO:-0700
TZNAME:PDT
DTSTART:20270314T100000
END:DAYLIGHT
BEGIN:STANDARD
TZOFFSETFROM:-0700
TZOFFSETTO:-0800
TZNAME:PST
DTSTART:20271107T090000
END:STANDARD
END:VTIMEZONE
BEGIN:VEVENT
DTSTART;TZID=America/Los_Angeles:20260605T220000
DTEND;TZID=America/Los_Angeles:20260606T020000
DTSTAMP:20260423T104604
CREATED:20260102T195158Z
LAST-MODIFIED:20260102T195158Z
UID:10003122-1780696800-1780711200@lbcvibe.com
SUMMARY:Sevilla Long Beach Nightlife|Latin\, Reggaeton & Hip Hop Fridays + Saturdays
DESCRIPTION:Turn up your weekends!  Fridays & Saturdays at Sevilla Long Beach with top DJs spinning Reggaeton\, Hip Hop & EDM.
URL:https://lbcvibe.com/event/sevilla-long-beach-nightlifelatin-reggaeton-hip-hop-fridays-saturdays-45/
LOCATION:Sevilla Nightclub of Long Beach\, 140 Pine Avenue\, Long Beach\, CA\, 90802\, United States
CATEGORIES:EVENT
ATTACH;FMTTYPE=image/jpeg:https://lbcvibe.com/wp-content/uploads/2026/01/b94dd2120d87d7e2d16ba954e7f7c15d.jpg
GEO:33.76882;-118.19203
X-APPLE-STRUCTURED-LOCATION;VALUE=URI;X-ADDRESS=Sevilla Nightclub of Long Beach 140 Pine Avenue Long Beach CA 90802 United States;X-APPLE-RADIUS=500;X-TITLE=140 Pine Avenue:geo:-118.19203,33.76882
END:VEVENT
BEGIN:VEVENT
DTSTART;TZID=America/Los_Angeles:20260606T093000
DTEND;TZID=America/Los_Angeles:20260606T123000
DTSTAMP:20260423T104604
CREATED:20260227T200424Z
LAST-MODIFIED:20260227T200424Z
UID:10003340-1780738200-1780749000@lbcvibe.com
SUMMARY:Push to the Pier - Long Beach
DESCRIPTION:Join us for a fun Push to the Pier.
URL:https://lbcvibe.com/event/push-to-the-pier-long-beach-4/
LOCATION:Bay Shore Beach Park (54th and Claremont parking lot)\, 5400 East Ocean Boulevard\, Long Beach\, CA\, 90803\, United States
CATEGORIES:EVENT
ATTACH;FMTTYPE=image/jpeg:https://lbcvibe.com/wp-content/uploads/2026/02/3766f1505ad2fa5cd6ff49e8049ea60b.jpg
END:VEVENT
BEGIN:VEVENT
DTSTART;TZID=America/Los_Angeles:20260606T110000
DTEND;TZID=America/Los_Angeles:20260606T120000
DTSTAMP:20260423T104604
CREATED:20251226T203833Z
LAST-MODIFIED:20251226T203833Z
UID:10002987-1780743600-1780747200@lbcvibe.com
SUMMARY:BEER YOGA at Trademark Brewing\, Long Beach
DESCRIPTION:Join us for Saturday BREWERY YOGA and namasté for a recovery beer at Trademark Brewing!
URL:https://lbcvibe.com/event/beer-yoga-at-trademark-brewing-long-beach-24/
LOCATION:Trademark Brewing\, 233 E Anaheim St\, Long Beach\, CA\, 90813\, United States
CATEGORIES:EVENT
ATTACH;FMTTYPE=image/jpeg:https://lbcvibe.com/wp-content/uploads/2025/12/1e8a110028129a0d6797d3971b725694.jpg
GEO:33.782936;-118.1903
X-APPLE-STRUCTURED-LOCATION;VALUE=URI;X-ADDRESS=Trademark Brewing 233 E Anaheim St Long Beach CA 90813 United States;X-APPLE-RADIUS=500;X-TITLE=233 E Anaheim St:geo:-118.1903,33.782936
END:VEVENT
BEGIN:VEVENT
DTSTART;TZID=America/Los_Angeles:20260606T130000
DTEND;TZID=America/Los_Angeles:20260606T170000
DTSTAMP:20260423T104604
CREATED:20260417T190057Z
LAST-MODIFIED:20260417T190057Z
UID:10003445-1780750800-1780765200@lbcvibe.com
SUMMARY:LA Independent Beer Fest 2026 - The signature event of LA Beer Week
DESCRIPTION:The Kickoff to the 17th Annual LA Beer Week returns to LONG BEACH on Saturday\, June 6th at Shoreline Park.\n\n\nThe 17th Annual L.A. Beer Week is here! Join us for our big Kickoff Festival on Saturday\, June 6th at Shoreline Aquatic Park in Long Beach! We are bringing the heat this summer with an awesome festival featuring 75 independent craft breweries\, live music\, great local food\, games\, and more! \nProduced by the Los Angeles County Brewers Guild\, #LABW17 will feature the largest number of Los Angeles County-based craft breweries — more than any other festival in town! Join us and support your local brewers and the nonprofit organization that strives to foster craft beer culture in L.A. County. Admission includes a keepsake glass and unlimited tastes of over 150 beers from 75 breweries. This is surely a not-to-miss summer festival! \nVIP Tickets include early entry at 12pm\, access to special and rare beers only available during the first hour of the fest\, a special edition VIP-only commemorative tasting glass\, and a food coupon redeemable for a snack from a designated food vendor. \nFeaturing live music from GYPSY DREAMS. \nShoreline Aquatic Park is a beautiful rolling grass-covered park with stunning views of Long Beach harbor. We encourage you to bring blankets and camp chairs and spend a day in the sun while sipping the best of LA beer. \n \n\nGeneral Admission: $70\nVIP Admission: $100\nDesignated Driver: $20\n\n \n**Tickets are not guaranteed to be available at the door. Buy your tickets early!** \n*NO physical tickets will be mailed. Please be sure to input the correct e-mail address when buying tickets as they will be EMAILED to you immediately after your purchase. (via .pdf attachment). Names on tickets DO NOT need to match ID on day of event. \n*NO pets or children allowed at the festival. We love pets and children\, but the city and most conventional thinking don’t think it’s a good idea to be at a beer fest with them. (Sorry!) 21+ ONLY. \n*Admission includes unlimited tastes of craft beer and a commemorative glass for both General Admission and VIP ticket-holders. \n*Foods of various shapes\, sizes\, tastes\, and dietary restrictions will be available for purchase! \n*This is a 21 and over event. All attendees must bring a valid government-issued ID to prove they are over 21 years of age. \n* By purchasing a ticket\, you agree to these Terms & Conditions\, which limit our liability. Please review these terms carefully. All attendees will be required to pass through a Security Screening upon entering the event. Please note that prohibited items include any weapons or outside alcohol. \n*P.S. We love you and this will be a ton of fun. \n \nCONFIRMED BREWERIES FOR 2026: (more to come!) \n\nAbsolution Brewing Company\nAll Season Brewing\nAltar Society Brewing Co.\nAmbitious Ales\nAngry Horse Brewing\nArrow Lodge Brewing\nArts District Brewing Company\nAudio Graph Beer\nBeachwood Brewing\nBenny Boy Brewing & Cider House\nBoomtown Brewery\nBRAMS Beer\nBravery Brewing\nBrewjeria Company\nBrewyard Beer Company\nBrown Soul Brewing\nBurnin Daylight Brewing Company\nCampsite Brewing Company\nCellador Ales\ncerveceria del pueblo\nClaremont Craft Ales\nCommon Space Brewery\nEl Segundo Brewing\nEureka Brewing\neverywhere\nFar Field Beer Company\nFrogtown\nGame Changer Brewhouse\nGladi8or Brews and Billiards\nHand-Brewed Beer\nHeiwa Sake Brewery USA Inc\nHermosa Brewing\nHighland Park Brewery\nHop Secret Brewing Company\nHopSaint Brewing Company\nIkasu Brewing\nInnovation Brew Works\nISM Brewing\nLA Bodega Brewing Co.\nLa Jara Brewing Company\nLa Verne Brewing\nLawless Brewing Company\nLincoln Beer Company\nLong Beach Beer Lab\nLos Angeles Ale Works\nLucky Luke Brewing\nMalibu Brewing Company\nOgopogo Brewing\nOld Stump Brewing Co\nPaperback Brewing\nProject Barley Brewery\nSanta Cruz Brewing Co.\nSanta Monica Brew Works\nShadow Grove Brewing\nSmog City Brewing\nSolarc Brewing\nSugar Monkey Brewing\nTortugo Brewing Company\nTrademark Brewing\nTrustedGut\nWhittier Brewing Company
URL:https://lbcvibe.com/event/la-independent-beer-fest-2026-the-signature-event-of-la-beer-week/
LOCATION:ShoreLine Aquatic Park\, 200 Aquarium Way\, Long Beach\, CA\, 90802\, United States
CATEGORIES:EVENT
ATTACH;FMTTYPE=image/jpeg:https://lbcvibe.com/wp-content/uploads/2026/04/2ff816ef1e88ce769280026ede786522.jpg
END:VEVENT
BEGIN:VEVENT
DTSTART;TZID=America/Los_Angeles:20260606T220000
DTEND;TZID=America/Los_Angeles:20260607T020000
DTSTAMP:20260423T104604
CREATED:20260102T195158Z
LAST-MODIFIED:20260102T195158Z
UID:10003123-1780783200-1780797600@lbcvibe.com
SUMMARY:Sevilla Long Beach Nightlife|Latin\, Reggaeton & Hip Hop Fridays + Saturdays
DESCRIPTION:Turn up your weekends!  Fridays & Saturdays at Sevilla Long Beach with top DJs spinning Reggaeton\, Hip Hop & EDM.
URL:https://lbcvibe.com/event/sevilla-long-beach-nightlifelatin-reggaeton-hip-hop-fridays-saturdays-46/
LOCATION:Sevilla Nightclub of Long Beach\, 140 Pine Avenue\, Long Beach\, CA\, 90802\, United States
CATEGORIES:EVENT
ATTACH;FMTTYPE=image/jpeg:https://lbcvibe.com/wp-content/uploads/2026/01/b94dd2120d87d7e2d16ba954e7f7c15d.jpg
GEO:33.76882;-118.19203
X-APPLE-STRUCTURED-LOCATION;VALUE=URI;X-ADDRESS=Sevilla Nightclub of Long Beach 140 Pine Avenue Long Beach CA 90802 United States;X-APPLE-RADIUS=500;X-TITLE=140 Pine Avenue:geo:-118.19203,33.76882
END:VEVENT
BEGIN:VEVENT
DTSTART;TZID=America/Los_Angeles:20260607T160000
DTEND;TZID=America/Los_Angeles:20260607T210000
DTSTAMP:20260423T104604
CREATED:20260417T185843Z
LAST-MODIFIED:20260417T185843Z
UID:10003441-1780848000-1780866000@lbcvibe.com
SUMMARY:Lisa Knowles-Smith and the Brown Singers
DESCRIPTION:Get ready to Church with Lisa Knowles-Smith and the Brown Singers and Tim Rogers live in person!\n\n\nLisa Knowles-Smith and the Brown Singers\nGet ready for an unforgettable in-person experience with Lisa Knowles-Smith and the Brown Singers! Come vibe with soulful sounds and powerful voices that’ll lift your spirit. This is your chance to enjoy some amazing live music up close and personal. Don’t miss out on this awesome event – bring your friends and immerse yourself in great energy and passion!
URL:https://lbcvibe.com/event/lisa-knowles-smith-and-the-brown-singers/
LOCATION:3435 San Anseline Ave\, 3435 San Anseline Avenue\, Long Beach\, CA\, 90808\, United States
CATEGORIES:EVENT
ATTACH;FMTTYPE=image/jpeg:https://lbcvibe.com/wp-content/uploads/2026/04/bd6aeaa65afce9a513d72ebab243cfa7.jpg
END:VEVENT
END:VCALENDAR