BEGIN:VCALENDAR
VERSION:2.0
PRODID:-//LBC Vibe - ECPv6.15.20//NONSGML v1.0//EN
CALSCALE:GREGORIAN
METHOD:PUBLISH
X-WR-CALNAME:LBC Vibe
X-ORIGINAL-URL:https://lbcvibe.com
X-WR-CALDESC:Events for LBC Vibe
REFRESH-INTERVAL;VALUE=DURATION:PT1H
X-Robots-Tag:noindex
X-PUBLISHED-TTL:PT1H
BEGIN:VTIMEZONE
TZID:-07:00
END:VTIMEZONE
BEGIN:VTIMEZONE
TZID:America/Los_Angeles
BEGIN:DAYLIGHT
TZOFFSETFROM:-0800
TZOFFSETTO:-0700
TZNAME:PDT
DTSTART:20250309T100000
END:DAYLIGHT
BEGIN:STANDARD
TZOFFSETFROM:-0700
TZOFFSETTO:-0800
TZNAME:PST
DTSTART:20251102T090000
END:STANDARD
BEGIN:DAYLIGHT
TZOFFSETFROM:-0800
TZOFFSETTO:-0700
TZNAME:PDT
DTSTART:20260308T100000
END:DAYLIGHT
BEGIN:STANDARD
TZOFFSETFROM:-0700
TZOFFSETTO:-0800
TZNAME:PST
DTSTART:20261101T090000
END:STANDARD
BEGIN:DAYLIGHT
TZOFFSETFROM:-0800
TZOFFSETTO:-0700
TZNAME:PDT
DTSTART:20270314T100000
END:DAYLIGHT
BEGIN:STANDARD
TZOFFSETFROM:-0700
TZOFFSETTO:-0800
TZNAME:PST
DTSTART:20271107T090000
END:STANDARD
END:VTIMEZONE
BEGIN:VEVENT
DTSTART;TZID=-07:00:20260427T190000
DTEND;TZID=-07:00:20260427T203000
DTSTAMP:20260425T090828
CREATED:20260402T133534Z
LAST-MODIFIED:20260425T145023Z
UID:10003420-1777316400-1777321800@lbcvibe.com
SUMMARY:Cocktail/Mocktail🍸🍹 Making Experience
DESCRIPTION:***SEATS ARE LIMITED -sign up early.** Want to up your party drink making game to impress your friends? 🥃 Whether you love to get your swerve on or prefer an AF mocktail this class is for YOU! \nCome learn how to make classic boozy cocktails!🍸 Or turn your favorite classic cocktails into zero-proof mocktails and discover the world of non-alcoholic “spirits.” \nCome join us in exploring this new world and **learn how to make classic cocktails with or WITHOUT alcohol!** In class\, we will make the following: \n* Old Fashioned\n* Margarita\n* Daiquiri \nOur PRIVATE class is 90 minutes\, with all materials included\, PLUS a recipe book to record all the fun. Our Mixologist will lead everyone on how to make each of these three classic cocktails **with or without alcohol** and provide samples to taste. Yum! \nThen you will get to experiment with different syrups\, juices and bitters to **create your own drink**! Once your recipe is done\, show us what you got as your craft your cocktail for the class\, just like Tom Cruise in Top Shelf. \nSamples of each cocktail or mocktail will be given out for all to taste and provide feedback. \nFeel free to arrive early and grab some food next-door at Roxannes’. You’re also welcome to head back over to Roxannes’ with your new friends to close out the night. \n**What to wear**: Whatever brinks out your inner bartender \n**Meet-up spot:** At Wille’s Tin Shop right next door to Roxannes. \n**Parking:** Street parking \nSee ya soon!\n🏠❤️ Your favorite Host & House Seller\,\nKimberly Smith\n562-505-7754\nFeel free to call or text with any questions about this event\, group or real estate!\n[www.kbshouses.com](http://www.kbshouses.com/)\nIG: [https://www.instagram.com/tri.coastal/](https://www.instagram.com/tri.coastal/)\n**-*-*-*-*-*-*-*-*-*-*-*-*-*-*-*-*-*-*-*-*-*-*-*-*-*-*-*-*-*-*-*-*-*-*- \nNewsletter: [https://lp.constantcontactpages.com/sl/iStJajf](https://lp.constantcontactpages.com/sl/iStJajf)\n****GUESTS****\nAny guests that you want to bring will need to sign up with their own account\, but please note that our events are for adults only who are over 18.\n****IF YOU CAN’T FIND US -****\nRight before and during the event: Call me (not text) at 562-505-7754 and don’t use the chat function inside meetup as that is hard to check and keep track of right before and once the event is underway!\n****CHECK-IN****\nBe sure to find me and check in on the sign-in sheet for each event so that you are not marked as a no-show. Those members that no-show to 3 or more events will be removed from the group. \n**Do you ❤️ this group?** We are accepting donations to continue to plan and host fantastic events. Use the **DONATE** button on the event page!
URL:https://lbcvibe.com/event/cocktail-mocktail%f0%9f%8d%b8%f0%9f%8d%b9-making-experience/
LOCATION:Wille’s Tin Shop\, 1115 E Wardlow Rd\, Long Beach\, CA\, 90807\, United States
ATTACH;FMTTYPE=image/jpeg:https://lbcvibe.com/wp-content/uploads/2026/04/1024x576-5B8rqg.jpg
GEO:33.819115;-118.178024
X-APPLE-STRUCTURED-LOCATION;VALUE=URI;X-ADDRESS=Wille’s Tin Shop 1115 E Wardlow Rd Long Beach CA 90807 United States;X-APPLE-RADIUS=500;X-TITLE=1115 E Wardlow Rd:geo:-118.178024,33.819115
END:VEVENT
BEGIN:VEVENT
DTSTART;TZID=America/Los_Angeles:20260427T190000
DTEND;TZID=America/Los_Angeles:20260427T213000
DTSTAMP:20260425T090828
CREATED:20260423T222119Z
LAST-MODIFIED:20260423T222119Z
UID:10003536-1777316400-1777325400@lbcvibe.com
SUMMARY:Movie Mondays & Specials at Zaferia Beer Lab
DESCRIPTION:Want to shake off the Monday blues? Every Monday\, we’re transforming the Beer Lab into your local pop cinema!
URL:https://lbcvibe.com/event/movie-mondays-specials-at-zaferia-beer-lab/
LOCATION:Long Beach Beer Lab (Zaferia)\, 4000 East Anaheim Street\, #Ste 1a\, Long Beach\, CA\, 90804\, United States
CATEGORIES:EVENT
ATTACH;FMTTYPE=image/jpeg:https://lbcvibe.com/wp-content/uploads/2026/04/c7ff94c9f34f66d3bbcbeb87420d706d.jpg
END:VEVENT
BEGIN:VEVENT
DTSTART;TZID=America/Los_Angeles:20260428T190000
DTEND;TZID=America/Los_Angeles:20260428T233000
DTSTAMP:20260425T090828
CREATED:20260423T222207Z
LAST-MODIFIED:20260423T222207Z
UID:10003576-1777402800-1777419000@lbcvibe.com
SUMMARY:Best Karaoke In Long Beach at Roxanne's
DESCRIPTION:Karaoke Night at Roxanne’s! Grab the mic\, hype the room\, and enjoy late-night food\, drinks\, and high-energy vibes in Long Beach.
URL:https://lbcvibe.com/event/best-karaoke-in-long-beach-at-roxannes/
LOCATION:Roxanne’s\, 1115 E Wardlow Rd\, Long Beach\, CA\, United States
CATEGORIES:EVENT
ATTACH;FMTTYPE=image/jpeg:https://lbcvibe.com/wp-content/uploads/2026/04/b07d52b2897a891ade02be5e8e007692.jpg
GEO:33.819122;-118.17804
X-APPLE-STRUCTURED-LOCATION;VALUE=URI;X-ADDRESS=Roxanne’s 1115 E Wardlow Rd Long Beach CA United States;X-APPLE-RADIUS=500;X-TITLE=1115 E Wardlow Rd:geo:-118.17804,33.819122
END:VEVENT
BEGIN:VEVENT
DTSTART;TZID=-07:00:20260429T180000
DTEND;TZID=-07:00:20260429T220000
DTSTAMP:20260425T090828
CREATED:20260301T085039Z
LAST-MODIFIED:20260409T132012Z
UID:10003349-1777485600-1777500000@lbcvibe.com
SUMMARY:Board Game Night at The Wicked Wolf
DESCRIPTION:Welcome to our weekly board game night at *The Wicked Wolf*! We’ll have multiple tables of games going\, so if you have a game you’d like to teach\, feel free to bring it. \n📍 *The Wicked Wolf* is located at **2332 Pacific Ave\, Long Beach\, CA 90806**. \nWhen you enter the bar\, there’s a heavy door immediately to the right that leads to a stairway. Go up one flight—our private room is next to the patio. Make sure to add yourself to the sign-in sheet and grab a name tag. \n💡 *Our host has been kind enough to offer us a place to meet\, so we ask that folks purchase at least one drink during the night to support them (they have plenty of non-alcoholic options).* \n❗ *Can’t make it? Please update your RSVP so someone else can join. Repeated no-shows may lead to removal from the group\, since spots are limited. Thanks for being thoughtful\, and helping us keep things fair!*
URL:https://lbcvibe.com/event/board-game-night-at-the-wicked-wolf-9/
LOCATION:The Wicked Wolf\, 2332 Pacific Ave\, Long Beach\, CA\, 90806\, United States
ATTACH;FMTTYPE=image/jpeg:https://lbcvibe.com/wp-content/uploads/2025/06/1024x576-l7Hgjv.jpg
GEO:33.79959;-118.19347
X-APPLE-STRUCTURED-LOCATION;VALUE=URI;X-ADDRESS=The Wicked Wolf 2332 Pacific Ave Long Beach CA 90806 United States;X-APPLE-RADIUS=500;X-TITLE=2332 Pacific Ave:geo:-118.19347,33.79959
END:VEVENT
BEGIN:VEVENT
DTSTART;TZID=-07:00:20260429T180000
DTEND;TZID=-07:00:20260429T220000
DTSTAMP:20260425T090828
CREATED:20260410T132013Z
LAST-MODIFIED:20260425T132008Z
UID:10003428-1777485600-1777500000@lbcvibe.com
SUMMARY:Board Game Night at The Wicked Wolf
DESCRIPTION:Welcome to our weekly board game night at *The Wicked Wolf*! We’ll have multiple tables of games going\, so if you have a game you’d like to teach\, feel free to bring it. \n📍 *The Wicked Wolf* is located at **2332 Pacific Ave\, Long Beach\, CA 90806**. \nWhen you enter the bar\, there’s a heavy door immediately to the right that leads to a stairway. Go up one flight—our private room is next to the patio. Make sure to add yourself to the sign-in sheet and grab a name tag. \n💡 *Our host has been kind enough to offer us a place to meet\, so we ask that folks purchase at least one drink during the night to support them (they have plenty of non-alcoholic options).* \n❗ *Can’t make it? Please update your RSVP so someone else can join. Repeated no-shows may lead to removal from the group\, since spots are limited. Thanks for being thoughtful\, and helping us keep things fair!*
URL:https://lbcvibe.com/event/board-game-night-at-the-wicked-wolf-22/
LOCATION:The Wicked Wolf\, 2332 Pacific Ave\, Long Beach\, CA\, 90806\, United States
ATTACH;FMTTYPE=image/jpeg:https://lbcvibe.com/wp-content/uploads/2025/06/1024x576-l7Hgjv.jpg
GEO:33.79959;-118.19347
X-APPLE-STRUCTURED-LOCATION;VALUE=URI;X-ADDRESS=The Wicked Wolf 2332 Pacific Ave Long Beach CA 90806 United States;X-APPLE-RADIUS=500;X-TITLE=2332 Pacific Ave:geo:-118.19347,33.79959
END:VEVENT
BEGIN:VEVENT
DTSTART;TZID=America/Los_Angeles:20260429T190000
DTEND;TZID=America/Los_Angeles:20260429T210000
DTSTAMP:20260425T090828
CREATED:20260423T221957Z
LAST-MODIFIED:20260423T221957Z
UID:10003486-1777489200-1777496400@lbcvibe.com
SUMMARY:Trivia Nights at Wrigley Beer Lab
DESCRIPTION:Fresh batch of brain-bending trivia for all you knowledge fermenters out there!
URL:https://lbcvibe.com/event/trivia-nights-at-wrigley-beer-lab-2/
LOCATION:Long Beach Beer Lab (Wrigley)\, 518 West Willow Street\, Long Beach\, CA\, 90806\, United States
CATEGORIES:EVENT
ATTACH;FMTTYPE=image/jpeg:https://lbcvibe.com/wp-content/uploads/2026/04/daf31faf101efcdba1c254bfba7203df.jpg
END:VEVENT
BEGIN:VEVENT
DTSTART;TZID=-07:00:20260501T070000
DTEND;TZID=-07:00:20260501T080000
DTSTAMP:20260425T090828
CREATED:20260402T133535Z
LAST-MODIFIED:20260425T145024Z
UID:10003421-1777618800-1777622400@lbcvibe.com
SUMMARY:45 Min Sunrise 🌅 Morning Walk 🚶‍♀️🚶 at the Beach 🌊
DESCRIPTION:Let’s start the day with friends\, fresh air\, and a beautiful ocean view. 🌊☀️ This is a feel-good morning walk where we’ll take in the scenery\, get a little nature time\, and ease into the day with good company. We’ll walk at a comfortable\, steady pace and cover about 2 miles in around an hour\, a nice start to your morning. \nWe’ll do quick get-to-know-you intros for the first 5 minutes (up to 10 minutes if we have a bigger group)\, then we’ll head out no later than 7:05–7:10 AM. Yes\, 7 AM — please arrive a few minutes early so we can start on time. \nWe’ll walk on the sand by the water if conditions allow. If the tide makes the sand too soft\, we’ll switch to the path\, but we’ll try for the water’s edge first. \nCome for the ocean view\, and the chance to meet some great people. 👟🌿 \n**Meet-up spot:** On the grass\, next to the Galaxy Towers at the corner of **Orizaba Ave & Ocean Blvd** \n**Parking:** Street parking on **Ocean**\, plus plenty of neighborhood street parking nearby (around **1st & Orizaba**) \nSee ya soon!\n🏠❤️ Your favorite Host & House Seller\,\nKimberly Smith\n562-505-7754\nFeel free to call or text with any questions about this event\, group or real estate!\n[www.kbshouses.com](http://www.kbshouses.com/)\nIG: [https://www.instagram.com/tri.coastal/](https://www.instagram.com/tri.coastal/) \n**-*-*-*-*-*-*-*-*-*-*-*-*-*-*-*-*-*-*-*-*-*-*-*-*-*-*-*-*-*-*-*-*-*-*- \nNewsletter: [https://lp.constantcontactpages.com/sl/iStJajf](https://lp.constantcontactpages.com/sl/iStJajf) \n****GUESTS****\nAny guests that you want to bring will need to sign up with their own account\, but please note that our events are for adults only who are over 18. \n****IF YOU CAN’T FIND US -****\nRight before and during the event: Call me (not text) at 562-505-7754 and don’t use the chat function inside meetup as that is hard to check and keep track of right before and once the event is underway! \n****CHECK-IN****\nBe sure to find me and check in on the sign-in sheet for each event so that you are not marked as a no-show. Those members that no-show to 3 or more events will be removed from the group. \n**Do you ❤️ this group?** We are accepting donations to continue to plan and host fantastic events. Use the **DONATE** button on the event page!
URL:https://lbcvibe.com/event/45-min-sunrise-%f0%9f%8c%85-morning-walk-%f0%9f%9a%b6%e2%99%80%ef%b8%8f%f0%9f%9a%b6-at-the-beach-%f0%9f%8c%8a-3/
LOCATION:Galaxy Towers\, 2999 E Ocean Blvd\, Long Beach\, CA\, 90803\, United States
ATTACH;FMTTYPE=image/jpeg:https://lbcvibe.com/wp-content/uploads/2025/09/1024x576-Bsios3.jpg
GEO:33.762264;-118.15801
X-APPLE-STRUCTURED-LOCATION;VALUE=URI;X-ADDRESS=Galaxy Towers 2999 E Ocean Blvd Long Beach CA 90803 United States;X-APPLE-RADIUS=500;X-TITLE=2999 E Ocean Blvd:geo:-118.15801,33.762264
END:VEVENT
BEGIN:VEVENT
DTSTART;TZID=America/Los_Angeles:20260501T170000
DTEND;TZID=America/Los_Angeles:20260501T220000
DTSTAMP:20260425T090828
CREATED:20260417T190309Z
LAST-MODIFIED:20260417T190309Z
UID:10003454-1777654800-1777672800@lbcvibe.com
SUMMARY:Uptown Village Market Mothers Day
DESCRIPTION:Our handmade festival features an outdoor and inside shopping area\, live music\,  and craft centers.\n\n\nOur Mothers Day Event! \nThe Uptown Village Market is a great place for artists and creators of well-crafted goods to show and sell their work. Our bi-annual event is a showcase of unique\, high quality\, and\, above all\, HANDCRAFTED items. \nOur event features an outdoor and inside shopping area\, live music\, food trucks\, and craft centers. Opening night will be held in conjunction with the popular First Fridays art walk event in Bixby Knolls Long Beach\, a night of art\, music and food\, which regularly draws crowds of thousands of participants to the lively Bixby Knolls area of Long Beach. \nOur event is always family friendly and FREE to attend! \nEnjoy- handmade jewelry\, bath and body goodies\, papergoods\, clothing\, handbags\, accessories\, art\, pottery\, garden finds\, home goods\, plushies\, crochet & knit items\, pet gear\, kits & patterns\, and more! \nTimes: Friday May 1st – 5pm to 10pm \n \nWould you like to be a vendor? go here for more information: \nhttps://www.uptownvillagemarket.com/vendor
URL:https://lbcvibe.com/event/uptown-village-market-mothers-day/
LOCATION:Expo Arts Center\, 4321 Atlantic Avenue\, Long Beach\, CA\, 90807\, United States
CATEGORIES:EVENT
ATTACH;FMTTYPE=image/jpeg:https://lbcvibe.com/wp-content/uploads/2026/04/37e446063090cac0dae69bf888dfc4f6.jpg
GEO:33.8349;-118.185295
X-APPLE-STRUCTURED-LOCATION;VALUE=URI;X-ADDRESS=Expo Arts Center 4321 Atlantic Avenue Long Beach CA 90807 United States;X-APPLE-RADIUS=500;X-TITLE=4321 Atlantic Avenue:geo:-118.185295,33.8349
END:VEVENT
BEGIN:VEVENT
DTSTART;TZID=America/Los_Angeles:20260501T200000
DTEND;TZID=America/Los_Angeles:20260501T233000
DTSTAMP:20260425T090828
CREATED:20260417T185801Z
LAST-MODIFIED:20260417T185801Z
UID:10003438-1777665600-1777678200@lbcvibe.com
SUMMARY:The Alex Lucero Band plus more TBA
DESCRIPTION:The Alex Lucero Band brings their “Heavy & unKind” West Coast tour to DiPiazza’s in Long Beach\, CA on May 1\, 2026 at 8:00 PM. Catch soulful\n\n\nThe Alex Lucero Band performs live at DiPiazza’s in Long Beach\, CA on May 1\, 2026 at 8:00 PM as part of their “Heavy & unKind” West Coast tour. Enjoy soulful Americana/country/blues vibes from this Santa Cruz-based act. Tickets now available at thealexluceroband.com!
URL:https://lbcvibe.com/event/the-alex-lucero-band-plus-more-tba/
LOCATION:DiPiazza’s\, 5205 Pacific Coast Highway\, Long Beach\, CA\, 90804\, United States
CATEGORIES:EVENT
ATTACH;FMTTYPE=image/jpeg:https://lbcvibe.com/wp-content/uploads/2026/04/e17b779855b403f409d98946fc7527cd.jpg
END:VEVENT
BEGIN:VEVENT
DTSTART;TZID=America/Los_Angeles:20260501T203000
DTEND;TZID=America/Los_Angeles:20260501T235900
DTSTAMP:20260425T090828
CREATED:20260423T222250Z
LAST-MODIFIED:20260423T222250Z
UID:10003619-1777667400-1777679940@lbcvibe.com
SUMMARY:"The Bar Hop" - Roxanne’s Experience: A Five-Venue Cocktail Journey
DESCRIPTION:Get ready to sip your way through five awesome spots for a cocktail adventure like no other!
URL:https://lbcvibe.com/event/the-bar-hop-roxannes-experience-a-five-venue-cocktail-journey-9/
LOCATION:Roxanne’s\, 1115 E Wardlow Rd\, Long Beach\, CA\, United States
CATEGORIES:EVENT
ATTACH;FMTTYPE=image/jpeg:https://lbcvibe.com/wp-content/uploads/2026/04/b10cce8ca1bfe5ff85d75ff100bd55e7.jpg
GEO:33.819122;-118.17804
X-APPLE-STRUCTURED-LOCATION;VALUE=URI;X-ADDRESS=Roxanne’s 1115 E Wardlow Rd Long Beach CA United States;X-APPLE-RADIUS=500;X-TITLE=1115 E Wardlow Rd:geo:-118.17804,33.819122
END:VEVENT
BEGIN:VEVENT
DTSTART;TZID=America/Los_Angeles:20260501T210000
DTEND;TZID=America/Los_Angeles:20260502T020000
DTSTAMP:20260425T090828
CREATED:20260423T215352Z
LAST-MODIFIED:20260423T215352Z
UID:10003459-1777669200-1777687200@lbcvibe.com
SUMMARY:a dive bar night at Stache called Pop Out - Long Beach - the best deejays!
DESCRIPTION:Pop Out: a raw\, real Long Beach dive-bar night at Stache Bar — locals\, loud music\, no ego\, no cover. Pull up and meet your new friends.
URL:https://lbcvibe.com/event/a-dive-bar-night-at-stache-called-pop-out-long-beach-the-best-deejays/
LOCATION:The Stache Bar\, 941 East 4th Street\, Long Beach\, CA\, 90802\, United States
CATEGORIES:EVENT
ATTACH;FMTTYPE=image/jpeg:https://lbcvibe.com/wp-content/uploads/2026/04/f161a41eb9b0e514d52a8d2b3d47003b.jpg
END:VEVENT
BEGIN:VEVENT
DTSTART;TZID=America/Los_Angeles:20260501T220000
DTEND;TZID=America/Los_Angeles:20260502T020000
DTSTAMP:20260425T090828
CREATED:20260102T195145Z
LAST-MODIFIED:20260102T195145Z
UID:10003112-1777672800-1777687200@lbcvibe.com
SUMMARY:Sevilla Long Beach Nightlife|Latin\, Reggaeton & Hip Hop Fridays + Saturdays
DESCRIPTION:Turn up your weekends!  Fridays & Saturdays at Sevilla Long Beach with top DJs spinning Reggaeton\, Hip Hop & EDM.
URL:https://lbcvibe.com/event/sevilla-long-beach-nightlifelatin-reggaeton-hip-hop-fridays-saturdays-35/
LOCATION:Sevilla Nightclub of Long Beach\, 140 Pine Avenue\, Long Beach\, CA\, 90802\, United States
CATEGORIES:EVENT
ATTACH;FMTTYPE=image/jpeg:https://lbcvibe.com/wp-content/uploads/2026/01/b94dd2120d87d7e2d16ba954e7f7c15d.jpg
GEO:33.76882;-118.19203
X-APPLE-STRUCTURED-LOCATION;VALUE=URI;X-ADDRESS=Sevilla Nightclub of Long Beach 140 Pine Avenue Long Beach CA 90802 United States;X-APPLE-RADIUS=500;X-TITLE=140 Pine Avenue:geo:-118.19203,33.76882
END:VEVENT
BEGIN:VEVENT
DTSTART;TZID=America/Los_Angeles:20260502T093000
DTEND;TZID=America/Los_Angeles:20260502T123000
DTSTAMP:20260425T090828
CREATED:20260227T200424Z
LAST-MODIFIED:20260227T200424Z
UID:10003339-1777714200-1777725000@lbcvibe.com
SUMMARY:Push to the Pier - Long Beach
DESCRIPTION:Join us for a fun Push to the Pier.
URL:https://lbcvibe.com/event/push-to-the-pier-long-beach-3/
LOCATION:Bay Shore Beach Park (54th and Claremont parking lot)\, 5400 East Ocean Boulevard\, Long Beach\, CA\, 90803\, United States
CATEGORIES:EVENT
ATTACH;FMTTYPE=image/jpeg:https://lbcvibe.com/wp-content/uploads/2026/02/3766f1505ad2fa5cd6ff49e8049ea60b.jpg
END:VEVENT
BEGIN:VEVENT
DTSTART;TZID=America/Los_Angeles:20260502T110000
DTEND;TZID=America/Los_Angeles:20260502T120000
DTSTAMP:20260425T090828
CREATED:20251226T203820Z
LAST-MODIFIED:20251226T203820Z
UID:10002982-1777719600-1777723200@lbcvibe.com
SUMMARY:BEER YOGA at Trademark Brewing\, Long Beach
DESCRIPTION:Join us for Saturday BREWERY YOGA and namasté for a recovery beer at Trademark Brewing!
URL:https://lbcvibe.com/event/beer-yoga-at-trademark-brewing-long-beach-19/
LOCATION:Trademark Brewing\, 233 E Anaheim St\, Long Beach\, CA\, 90813\, United States
CATEGORIES:EVENT
ATTACH;FMTTYPE=image/jpeg:https://lbcvibe.com/wp-content/uploads/2025/12/1e8a110028129a0d6797d3971b725694.jpg
GEO:33.782936;-118.1903
X-APPLE-STRUCTURED-LOCATION;VALUE=URI;X-ADDRESS=Trademark Brewing 233 E Anaheim St Long Beach CA 90813 United States;X-APPLE-RADIUS=500;X-TITLE=233 E Anaheim St:geo:-118.1903,33.782936
END:VEVENT
BEGIN:VEVENT
DTSTART;TZID=America/Los_Angeles:20260502T110000
DTEND;TZID=America/Los_Angeles:20260502T160000
DTSTAMP:20260425T090828
CREATED:20260417T185655Z
LAST-MODIFIED:20260417T185655Z
UID:10003435-1777719600-1777737600@lbcvibe.com
SUMMARY:Long Beach Plant Fest
DESCRIPTION:It’s finally here! Long Beach Plant Fest is happening at MOLAA. Pull up for a brand new experience filled with plants\, music and good energy\n\n\n\n🌿 HEY LONG BEACH!! WE’RE BACK !✨ \nGet ready for the first Long Beach Plant Fest of 2026\, brought to you by Hella Plants Market and Plantiitas! This May\, we’re taking over the Museum of Latin American Art (MOLAA) with a full day of plants\, community\, and unmatched vibes. \n📅 Date: Saturday\, May 2nd\, 2026🕚 Time: 11AM – 4PM📍 Location: Museum of Latin American Art (MOLAA)\, 628 Alamitos Avenue\, Long Beach\, CA 90802 \nThe Long Beach Plant Fest is your favorite green gathering; back and better. Expect a full day of rare and common plants\, hands-on workshops\, local eats\, and good energy all around. Whether you’re growing your collection\, shopping small\, or just pulling up for the vibes\, this is where you want to be. \n🌿 Here’s What’s in Store: \nHella Plants: A lush lineup of plants from statement tropicals to easy-care greens\, perfect for your space. \nWorkshops: Tap in with local creatives and plant experts through interactive\, hands-on experiences. \nLocal Eats: Enjoy delicious food\, sweet treats\, and plant-based options from some of your favorite vendors. \nCommunity Vibes: Connect with fellow plant lovers\, discover new brands\, and experience the culture in full bloom. \nVIP Experience (Limited!)Want early access before the crowd? VIP ticket holders get in at 11AM\, skip the lines\, shop first\, and receive a curated goodie bag filled with planty surprises. \n🎟️Tickets:Early bird tickets are available. Don’t wait on this. Kids get in free. Parking is available nearby\, but we encourage carpooling or public transit to keep it green. \n🪴 Friendly Tip:Bring your own tote\, wagon\, or basket for all your new plant babies. We’re keeping it sustainable and single-use bag-free. \nThe first Long Beach Plant Fest of 2026 is your chance to step into a fresh season. Plants\, music\, food\, and community all in one space 🌿✨ \nWe can’t wait to see you there. Tell your people\, grab your tickets\, and come vibe with us at MOLAA.
URL:https://lbcvibe.com/event/long-beach-plant-fest/
LOCATION:Museum of Latin American Art (MOLAA)\, 628 Alamitos Avenue\, Long Beach\, CA\, 90802\, United States
CATEGORIES:EVENT
ATTACH;FMTTYPE=image/jpeg:https://lbcvibe.com/wp-content/uploads/2026/04/32d4fa4b5d0fe313830f6096bfce9aa1.jpg
END:VEVENT
BEGIN:VEVENT
DTSTART;TZID=America/Los_Angeles:20260502T190000
DTEND;TZID=America/Los_Angeles:20260502T210000
DTSTAMP:20260425T090828
CREATED:20260417T190301Z
LAST-MODIFIED:20260417T190301Z
UID:10003453-1777748400-1777755600@lbcvibe.com
SUMMARY:The Little Mermaid Ballet
DESCRIPTION:Dive into a magical underwater adventure brought to life through beautiful ballet.\n\n\nMake a splash into a world of wonder as this beloved story comes to life on stage. Follow the journey beneath the sea and beyond breathtaking choreography\, beautiful music\, and stunning costumes bring the adventure to dazzling life. Join us for an unforgettable dive into a beautiful ballet that will capture hearts of all ages. \nDive into this magical underwater adventure brought to life by Ballet Etudes. Ballet Etudes is celebrating 30 years as a non-profit youth ballet company dedicated to nurturing dancers’ character development and artistic growth through immersive\, exceptional performance experiences. Our mission is to engage and enrich the community by introducing a new generation to the transformative power of ballet through our outreach programs.
URL:https://lbcvibe.com/event/the-little-mermaid-ballet/
LOCATION:Martha B. Knoebel Dance Theatre\, 6200 East Atherton Street\, Long Beach\, CA\, 90815\, United States
CATEGORIES:EVENT
ATTACH;FMTTYPE=image/jpeg:https://lbcvibe.com/wp-content/uploads/2026/04/4d56327db286b1f60f1bb1f646d03f94.jpg
END:VEVENT
BEGIN:VEVENT
DTSTART;TZID=America/Los_Angeles:20260502T203000
DTEND;TZID=America/Los_Angeles:20260502T235900
DTSTAMP:20260425T090828
CREATED:20260423T222250Z
LAST-MODIFIED:20260423T222250Z
UID:10003622-1777753800-1777766340@lbcvibe.com
SUMMARY:"The Bar Hop" - Roxanne’s Experience: A Five-Venue Cocktail Journey
DESCRIPTION:Get ready to sip your way through five awesome spots for a cocktail adventure like no other!
URL:https://lbcvibe.com/event/the-bar-hop-roxannes-experience-a-five-venue-cocktail-journey-12/
LOCATION:Roxanne’s\, 1115 E Wardlow Rd\, Long Beach\, CA\, United States
CATEGORIES:EVENT
ATTACH;FMTTYPE=image/jpeg:https://lbcvibe.com/wp-content/uploads/2026/04/b10cce8ca1bfe5ff85d75ff100bd55e7.jpg
GEO:33.819122;-118.17804
X-APPLE-STRUCTURED-LOCATION;VALUE=URI;X-ADDRESS=Roxanne’s 1115 E Wardlow Rd Long Beach CA United States;X-APPLE-RADIUS=500;X-TITLE=1115 E Wardlow Rd:geo:-118.17804,33.819122
END:VEVENT
BEGIN:VEVENT
DTSTART;TZID=America/Los_Angeles:20260502T220000
DTEND;TZID=America/Los_Angeles:20260503T020000
DTSTAMP:20260425T090828
CREATED:20260102T195145Z
LAST-MODIFIED:20260102T195145Z
UID:10003113-1777759200-1777773600@lbcvibe.com
SUMMARY:Sevilla Long Beach Nightlife|Latin\, Reggaeton & Hip Hop Fridays + Saturdays
DESCRIPTION:Turn up your weekends!  Fridays & Saturdays at Sevilla Long Beach with top DJs spinning Reggaeton\, Hip Hop & EDM.
URL:https://lbcvibe.com/event/sevilla-long-beach-nightlifelatin-reggaeton-hip-hop-fridays-saturdays-36/
LOCATION:Sevilla Nightclub of Long Beach\, 140 Pine Avenue\, Long Beach\, CA\, 90802\, United States
CATEGORIES:EVENT
ATTACH;FMTTYPE=image/jpeg:https://lbcvibe.com/wp-content/uploads/2026/01/b94dd2120d87d7e2d16ba954e7f7c15d.jpg
GEO:33.76882;-118.19203
X-APPLE-STRUCTURED-LOCATION;VALUE=URI;X-ADDRESS=Sevilla Nightclub of Long Beach 140 Pine Avenue Long Beach CA 90802 United States;X-APPLE-RADIUS=500;X-TITLE=140 Pine Avenue:geo:-118.19203,33.76882
END:VEVENT
END:VCALENDAR