BEGIN:VCALENDAR
VERSION:2.0
PRODID:-//LBC Vibe - ECPv6.15.20//NONSGML v1.0//EN
CALSCALE:GREGORIAN
METHOD:PUBLISH
X-WR-CALNAME:LBC Vibe
X-ORIGINAL-URL:https://lbcvibe.com
X-WR-CALDESC:Events for LBC Vibe
REFRESH-INTERVAL;VALUE=DURATION:PT1H
X-Robots-Tag:noindex
X-PUBLISHED-TTL:PT1H
BEGIN:VTIMEZONE
TZID:America/Los_Angeles
BEGIN:DAYLIGHT
TZOFFSETFROM:-0800
TZOFFSETTO:-0700
TZNAME:PDT
DTSTART:20250309T100000
END:DAYLIGHT
BEGIN:STANDARD
TZOFFSETFROM:-0700
TZOFFSETTO:-0800
TZNAME:PST
DTSTART:20251102T090000
END:STANDARD
BEGIN:DAYLIGHT
TZOFFSETFROM:-0800
TZOFFSETTO:-0700
TZNAME:PDT
DTSTART:20260308T100000
END:DAYLIGHT
BEGIN:STANDARD
TZOFFSETFROM:-0700
TZOFFSETTO:-0800
TZNAME:PST
DTSTART:20261101T090000
END:STANDARD
BEGIN:DAYLIGHT
TZOFFSETFROM:-0800
TZOFFSETTO:-0700
TZNAME:PDT
DTSTART:20270314T100000
END:DAYLIGHT
BEGIN:STANDARD
TZOFFSETFROM:-0700
TZOFFSETTO:-0800
TZNAME:PST
DTSTART:20271107T090000
END:STANDARD
END:VTIMEZONE
BEGIN:VEVENT
DTSTART;TZID=America/Los_Angeles:20260717T210000
DTEND;TZID=America/Los_Angeles:20260718T010000
DTSTAMP:20260425T172236
CREATED:20260423T215423Z
LAST-MODIFIED:20260423T215423Z
UID:10003478-1784322000-1784336400@lbcvibe.com
SUMMARY:SALA After Dark - 21+
DESCRIPTION:SALA After Dark: Hip Hop\, R&B\, throwbacks & deep cuts in an intimate lounge built for music lovers.
URL:https://lbcvibe.com/event/sala-after-dark-21-3/
LOCATION:SALA Coffee & Wine Bar\, 3853 Atlantic Avenue\, Long Beach\, CA\, 90807\, United States
CATEGORIES:EVENT
ATTACH;FMTTYPE=image/jpeg:https://lbcvibe.com/wp-content/uploads/2026/04/ade8cd779a4a978b40343f5cf1494548.jpg
END:VEVENT
BEGIN:VEVENT
DTSTART;TZID=America/Los_Angeles:20260718T110000
DTEND;TZID=America/Los_Angeles:20260718T120000
DTSTAMP:20260425T172236
CREATED:20251226T203834Z
LAST-MODIFIED:20251226T203834Z
UID:10002993-1784372400-1784376000@lbcvibe.com
SUMMARY:BEER YOGA at Trademark Brewing\, Long Beach
DESCRIPTION:Join us for Saturday BREWERY YOGA and namasté for a recovery beer at Trademark Brewing!
URL:https://lbcvibe.com/event/beer-yoga-at-trademark-brewing-long-beach-30/
LOCATION:Trademark Brewing\, 233 E Anaheim St\, Long Beach\, CA\, 90813\, United States
CATEGORIES:EVENT
ATTACH;FMTTYPE=image/jpeg:https://lbcvibe.com/wp-content/uploads/2025/12/1e8a110028129a0d6797d3971b725694.jpg
GEO:33.782936;-118.1903
X-APPLE-STRUCTURED-LOCATION;VALUE=URI;X-ADDRESS=Trademark Brewing 233 E Anaheim St Long Beach CA 90813 United States;X-APPLE-RADIUS=500;X-TITLE=233 E Anaheim St:geo:-118.1903,33.782936
END:VEVENT
BEGIN:VEVENT
DTSTART;TZID=America/Los_Angeles:20260718T130000
DTEND;TZID=America/Los_Angeles:20260718T170000
DTSTAMP:20260425T172236
CREATED:20260423T222231Z
LAST-MODIFIED:20260423T222231Z
UID:10003606-1784379600-1784394000@lbcvibe.com
SUMMARY:2026 Clean & Crispy Beer Fest
DESCRIPTION:Prepare for a scientific soiree of suds at Long Beach Beer Lab!\n\n\nCLEAN & CRISPY FEST 2026 \nThis is our holy grail of lager-loving lunacy! An annual celebration of all things lager\, pilsner\, and crispy perfection\, where golden beers\, good vibes\, and our favorite community of crispy crusaders collide. \nWe’ve got $40 GA tickets this year \nYour ticket gets you: \n✔️ Exclusive taster glass \n✔️ UNLIMITED samples from 20+ curated breweries \n✔️ Access to the small biz marketplace\, delicious food\, games & live music \n✔️ Merch re-releases\, crispy vibes\, and cold refreshment science! \nFor designated drivers\, DD Tickets are just $18\, and we’ll have plenty of non-alcoholic options to keep things tasty for ya! \n \n📍 Long Beach Beer Lab Backlot in Wrigley \n \nBREWERY LINEUP COMING LATE MAY
URL:https://lbcvibe.com/event/2026-clean-crispy-beer-fest/
LOCATION:Long Beach Beer Lab (Wrigley)\, 518 West Willow Street\, Long Beach\, CA\, 90806\, United States
CATEGORIES:EVENT
ATTACH;FMTTYPE=image/jpeg:https://lbcvibe.com/wp-content/uploads/2026/04/1ddd19a267a4b9cfcd952d8f71adafb3.jpg
END:VEVENT
BEGIN:VEVENT
DTSTART;TZID=America/Los_Angeles:20260718T140000
DTEND;TZID=America/Los_Angeles:20260719T220000
DTSTAMP:20260425T172236
CREATED:20260417T185903Z
LAST-MODIFIED:20260417T185957Z
UID:10003442-1784383200-1784498400@lbcvibe.com
SUMMARY:Love Long Beach Festival 2026
DESCRIPTION:Love Long Beach Festival is back\, and it’s going to be legendary. Celebrating 11 years of dance-fueled magic and heart-expanding moments.\n\n\nLove Long Beach Festival 2026 \n11th Annual Celebration \nPasses are LIVE for the 11th Annual Love Long Beach Festival\, happening July 18 & 19\, 2026\, at the shoreline we call home: ShoreLine Aquatic Park. \nFor over a decade\, Love Long Beach has gathered dancers\, artists\, families\, and music lovers for a weekend rooted in connection\, creativity\, and culture. Framed by the lighthouse above the open lawn and the panoramic marina skyline\, the park offers an intimate waterfront backdrop for two days of music\, movement\, and shared experience. \nWhether you’re joining us for the full weekend or dropping in for a single day\, 1-day and weekend passes are available now. Early Bird tickets are limited — secure yours before they’re gone. \nThe LineupPhase 1 dropping soon — and yes\, it’s stacked. \nSubtract Stage | House & TechnoNoise Stage | Bass Music \nWith tightly curated underground sounds\, each stage is designed with intention. Our production is cozy and inviting\, with powerful audiophile-grade sound systems that keep the focus on the music\, the people\, and the ocean around you. \nBeyond the StagesWhole Earth VillageKids’ CornerBeachfront Yoga & Sound HealingImmersive WorkshopsLive Art InstallationsLocal Food Vendors & TrucksMaker & Merchandise Village \nSun-soaked energy and an easy flow invite you to wander\, settle in\, and discover new favorites at your own pace. Love Long Beach is an all-ages gathering with room to relax\, picnic\, dance\, and play alongside family and friends. As golden hour rolls in\, the park shifts into a beachfront dance floor soundtracked by world-class local and international talent. \nThis isn’t just a festival. It’s a summer ritual by the sea — 11 years deep and still evolving. \nLock in your tickets\, round up your crew\, and join us for another unforgettable weekend on the waterfront. \n11 years of Love — and the best is yet to come. \nGrab Your Tickets: \nlovelongbeachfestival.com \n————————————- \nLove Long Beach Festival 2026Saturday July 18 | 2:00pm – 10:00pmSunday July 19 | 2:00pm – 10:00pm \nSubtract Stage | House & TechnoPhase 1 Coming Soon \nNoise Stage | Bass MusicPhase 1 Coming Soon \nBeyond the musicWhole Earth VillageSound Healing & YogaFood Vendors & TrucksMerchandise & Service VendorsKids’ CornerAnd much more… \nLocation | ShoreLine Aquatic Park200 Aquarium WayLong Beach\, CA 90802 \nEvent info & tickets can be found here:www.lovelongbeachfestival.com
URL:https://lbcvibe.com/event/love-long-beach-festival-2026/
LOCATION:ShoreLine Aquatic Park\, 200 Aquarium Way\, Long Beach\, CA\, 90802\, United States
CATEGORIES:EVENT
ATTACH;FMTTYPE=image/jpeg:https://lbcvibe.com/wp-content/uploads/2026/04/75a1bcb2befcc19efb85f5bba87ed556.jpg
END:VEVENT
BEGIN:VEVENT
DTSTART;TZID=America/Los_Angeles:20260720T190000
DTEND;TZID=America/Los_Angeles:20260720T213000
DTSTAMP:20260425T172236
CREATED:20260423T222136Z
LAST-MODIFIED:20260423T222136Z
UID:10003548-1784574000-1784583000@lbcvibe.com
SUMMARY:Movie Mondays & Specials at Zaferia Beer Lab
DESCRIPTION:Want to shake off the Monday blues? Every Monday\, we’re transforming the Beer Lab into your local pop cinema!
URL:https://lbcvibe.com/event/movie-mondays-specials-at-zaferia-beer-lab-13/
LOCATION:Long Beach Beer Lab (Zaferia)\, 4000 East Anaheim Street\, #Ste 1a\, Long Beach\, CA\, 90804\, United States
CATEGORIES:EVENT
ATTACH;FMTTYPE=image/jpeg:https://lbcvibe.com/wp-content/uploads/2026/04/c7ff94c9f34f66d3bbcbeb87420d706d.jpg
END:VEVENT
BEGIN:VEVENT
DTSTART;TZID=America/Los_Angeles:20260721T190000
DTEND;TZID=America/Los_Angeles:20260721T233000
DTSTAMP:20260425T172236
CREATED:20260423T222221Z
LAST-MODIFIED:20260423T222221Z
UID:10003598-1784660400-1784676600@lbcvibe.com
SUMMARY:Best Karaoke In Long Beach at Roxanne's
DESCRIPTION:Karaoke Night at Roxanne’s! Grab the mic\, hype the room\, and enjoy late-night food\, drinks\, and high-energy vibes in Long Beach.
URL:https://lbcvibe.com/event/best-karaoke-in-long-beach-at-roxannes-13/
LOCATION:Roxanne’s\, 1115 E Wardlow Rd\, Long Beach\, CA\, United States
CATEGORIES:EVENT
ATTACH;FMTTYPE=image/jpeg:https://lbcvibe.com/wp-content/uploads/2026/04/b07d52b2897a891ade02be5e8e007692.jpg
GEO:33.819122;-118.17804
X-APPLE-STRUCTURED-LOCATION;VALUE=URI;X-ADDRESS=Roxanne’s 1115 E Wardlow Rd Long Beach CA United States;X-APPLE-RADIUS=500;X-TITLE=1115 E Wardlow Rd:geo:-118.17804,33.819122
END:VEVENT
BEGIN:VEVENT
DTSTART;TZID=America/Los_Angeles:20260722T190000
DTEND;TZID=America/Los_Angeles:20260722T210000
DTSTAMP:20260425T172236
CREATED:20260423T222025Z
LAST-MODIFIED:20260423T222025Z
UID:10003498-1784746800-1784754000@lbcvibe.com
SUMMARY:Trivia Nights at Wrigley Beer Lab
DESCRIPTION:Fresh batch of brain-bending trivia for all you knowledge fermenters out there!
URL:https://lbcvibe.com/event/trivia-nights-at-wrigley-beer-lab-14/
LOCATION:Long Beach Beer Lab (Wrigley)\, 518 West Willow Street\, Long Beach\, CA\, 90806\, United States
CATEGORIES:EVENT
ATTACH;FMTTYPE=image/jpeg:https://lbcvibe.com/wp-content/uploads/2026/04/daf31faf101efcdba1c254bfba7203df.jpg
END:VEVENT
BEGIN:VEVENT
DTSTART;TZID=America/Los_Angeles:20260725T110000
DTEND;TZID=America/Los_Angeles:20260725T120000
DTSTAMP:20260425T172236
CREATED:20251226T203834Z
LAST-MODIFIED:20251226T203834Z
UID:10002994-1784977200-1784980800@lbcvibe.com
SUMMARY:BEER YOGA at Trademark Brewing\, Long Beach
DESCRIPTION:Join us for Saturday BREWERY YOGA and namasté for a recovery beer at Trademark Brewing!
URL:https://lbcvibe.com/event/beer-yoga-at-trademark-brewing-long-beach-31/
LOCATION:Trademark Brewing\, 233 E Anaheim St\, Long Beach\, CA\, 90813\, United States
CATEGORIES:EVENT
ATTACH;FMTTYPE=image/jpeg:https://lbcvibe.com/wp-content/uploads/2025/12/1e8a110028129a0d6797d3971b725694.jpg
GEO:33.782936;-118.1903
X-APPLE-STRUCTURED-LOCATION;VALUE=URI;X-ADDRESS=Trademark Brewing 233 E Anaheim St Long Beach CA 90813 United States;X-APPLE-RADIUS=500;X-TITLE=233 E Anaheim St:geo:-118.1903,33.782936
END:VEVENT
BEGIN:VEVENT
DTSTART;TZID=America/Los_Angeles:20260725T210000
DTEND;TZID=America/Los_Angeles:20260726T020000
DTSTAMP:20260425T172236
CREATED:20260116T201206Z
LAST-MODIFIED:20260423T215408Z
UID:10003197-1785013200-1785031200@lbcvibe.com
SUMMARY:Lost n Found — Your R&B Night at Que Sera <3
DESCRIPTION:A soulful R&B night at Que Sera in Long Beach — every 4th Saturday. Good vibes\, throwbacks\, modern hits\, and real community energy.
URL:https://lbcvibe.com/event/lost-n-found-your-rb-night-at-sala-3-7/
LOCATION:Que Sera\, 1923 East 7th Street\, Long Beach\, CA\, 90813\, United States
CATEGORIES:EVENT
ATTACH;FMTTYPE=image/jpeg:https://lbcvibe.com/wp-content/uploads/2026/01/49223d6221aae148a7703a8b5ec2e9f1.jpg
END:VEVENT
BEGIN:VEVENT
DTSTART;TZID=America/Los_Angeles:20260727T190000
DTEND;TZID=America/Los_Angeles:20260727T213000
DTSTAMP:20260425T172236
CREATED:20260423T222136Z
LAST-MODIFIED:20260423T222136Z
UID:10003549-1785178800-1785187800@lbcvibe.com
SUMMARY:Movie Mondays & Specials at Zaferia Beer Lab
DESCRIPTION:Want to shake off the Monday blues? Every Monday\, we’re transforming the Beer Lab into your local pop cinema!
URL:https://lbcvibe.com/event/movie-mondays-specials-at-zaferia-beer-lab-14/
LOCATION:Long Beach Beer Lab (Zaferia)\, 4000 East Anaheim Street\, #Ste 1a\, Long Beach\, CA\, 90804\, United States
CATEGORIES:EVENT
ATTACH;FMTTYPE=image/jpeg:https://lbcvibe.com/wp-content/uploads/2026/04/c7ff94c9f34f66d3bbcbeb87420d706d.jpg
END:VEVENT
BEGIN:VEVENT
DTSTART;TZID=America/Los_Angeles:20260728T190000
DTEND;TZID=America/Los_Angeles:20260728T233000
DTSTAMP:20260425T172236
CREATED:20260423T222221Z
LAST-MODIFIED:20260423T222221Z
UID:10003599-1785265200-1785281400@lbcvibe.com
SUMMARY:Best Karaoke In Long Beach at Roxanne's
DESCRIPTION:Karaoke Night at Roxanne’s! Grab the mic\, hype the room\, and enjoy late-night food\, drinks\, and high-energy vibes in Long Beach.
URL:https://lbcvibe.com/event/best-karaoke-in-long-beach-at-roxannes-14/
LOCATION:Roxanne’s\, 1115 E Wardlow Rd\, Long Beach\, CA\, United States
CATEGORIES:EVENT
ATTACH;FMTTYPE=image/jpeg:https://lbcvibe.com/wp-content/uploads/2026/04/b07d52b2897a891ade02be5e8e007692.jpg
GEO:33.819122;-118.17804
X-APPLE-STRUCTURED-LOCATION;VALUE=URI;X-ADDRESS=Roxanne’s 1115 E Wardlow Rd Long Beach CA United States;X-APPLE-RADIUS=500;X-TITLE=1115 E Wardlow Rd:geo:-118.17804,33.819122
END:VEVENT
BEGIN:VEVENT
DTSTART;TZID=America/Los_Angeles:20260729T190000
DTEND;TZID=America/Los_Angeles:20260729T210000
DTSTAMP:20260425T172236
CREATED:20260423T222025Z
LAST-MODIFIED:20260423T222025Z
UID:10003499-1785351600-1785358800@lbcvibe.com
SUMMARY:Trivia Nights at Wrigley Beer Lab
DESCRIPTION:Fresh batch of brain-bending trivia for all you knowledge fermenters out there!
URL:https://lbcvibe.com/event/trivia-nights-at-wrigley-beer-lab-15/
LOCATION:Long Beach Beer Lab (Wrigley)\, 518 West Willow Street\, Long Beach\, CA\, 90806\, United States
CATEGORIES:EVENT
ATTACH;FMTTYPE=image/jpeg:https://lbcvibe.com/wp-content/uploads/2026/04/daf31faf101efcdba1c254bfba7203df.jpg
END:VEVENT
BEGIN:VEVENT
DTSTART;TZID=America/Los_Angeles:20260801T110000
DTEND;TZID=America/Los_Angeles:20260801T120000
DTSTAMP:20260425T172236
CREATED:20251226T203846Z
LAST-MODIFIED:20251226T203846Z
UID:10002995-1785582000-1785585600@lbcvibe.com
SUMMARY:BEER YOGA at Trademark Brewing\, Long Beach
DESCRIPTION:Join us for Saturday BREWERY YOGA and namasté for a recovery beer at Trademark Brewing!
URL:https://lbcvibe.com/event/beer-yoga-at-trademark-brewing-long-beach-32/
LOCATION:Trademark Brewing\, 233 E Anaheim St\, Long Beach\, CA\, 90813\, United States
CATEGORIES:EVENT
ATTACH;FMTTYPE=image/jpeg:https://lbcvibe.com/wp-content/uploads/2025/12/1e8a110028129a0d6797d3971b725694.jpg
GEO:33.782936;-118.1903
X-APPLE-STRUCTURED-LOCATION;VALUE=URI;X-ADDRESS=Trademark Brewing 233 E Anaheim St Long Beach CA 90813 United States;X-APPLE-RADIUS=500;X-TITLE=233 E Anaheim St:geo:-118.1903,33.782936
END:VEVENT
BEGIN:VEVENT
DTSTART;TZID=America/Los_Angeles:20260803T190000
DTEND;TZID=America/Los_Angeles:20260803T213000
DTSTAMP:20260425T172236
CREATED:20260423T222136Z
LAST-MODIFIED:20260423T222136Z
UID:10003550-1785783600-1785792600@lbcvibe.com
SUMMARY:Movie Mondays & Specials at Zaferia Beer Lab
DESCRIPTION:Want to shake off the Monday blues? Every Monday\, we’re transforming the Beer Lab into your local pop cinema!
URL:https://lbcvibe.com/event/movie-mondays-specials-at-zaferia-beer-lab-15/
LOCATION:Long Beach Beer Lab (Zaferia)\, 4000 East Anaheim Street\, #Ste 1a\, Long Beach\, CA\, 90804\, United States
CATEGORIES:EVENT
ATTACH;FMTTYPE=image/jpeg:https://lbcvibe.com/wp-content/uploads/2026/04/c7ff94c9f34f66d3bbcbeb87420d706d.jpg
END:VEVENT
BEGIN:VEVENT
DTSTART;TZID=America/Los_Angeles:20260804T190000
DTEND;TZID=America/Los_Angeles:20260804T233000
DTSTAMP:20260425T172236
CREATED:20260423T222221Z
LAST-MODIFIED:20260423T222221Z
UID:10003600-1785870000-1785886200@lbcvibe.com
SUMMARY:Best Karaoke In Long Beach at Roxanne's
DESCRIPTION:Karaoke Night at Roxanne’s! Grab the mic\, hype the room\, and enjoy late-night food\, drinks\, and high-energy vibes in Long Beach.
URL:https://lbcvibe.com/event/best-karaoke-in-long-beach-at-roxannes-15/
LOCATION:Roxanne’s\, 1115 E Wardlow Rd\, Long Beach\, CA\, United States
CATEGORIES:EVENT
ATTACH;FMTTYPE=image/jpeg:https://lbcvibe.com/wp-content/uploads/2026/04/b07d52b2897a891ade02be5e8e007692.jpg
GEO:33.819122;-118.17804
X-APPLE-STRUCTURED-LOCATION;VALUE=URI;X-ADDRESS=Roxanne’s 1115 E Wardlow Rd Long Beach CA United States;X-APPLE-RADIUS=500;X-TITLE=1115 E Wardlow Rd:geo:-118.17804,33.819122
END:VEVENT
BEGIN:VEVENT
DTSTART;TZID=America/Los_Angeles:20260805T190000
DTEND;TZID=America/Los_Angeles:20260805T210000
DTSTAMP:20260425T172236
CREATED:20260423T222025Z
LAST-MODIFIED:20260423T222025Z
UID:10003500-1785956400-1785963600@lbcvibe.com
SUMMARY:Trivia Nights at Wrigley Beer Lab
DESCRIPTION:Fresh batch of brain-bending trivia for all you knowledge fermenters out there!
URL:https://lbcvibe.com/event/trivia-nights-at-wrigley-beer-lab-16/
LOCATION:Long Beach Beer Lab (Wrigley)\, 518 West Willow Street\, Long Beach\, CA\, 90806\, United States
CATEGORIES:EVENT
ATTACH;FMTTYPE=image/jpeg:https://lbcvibe.com/wp-content/uploads/2026/04/daf31faf101efcdba1c254bfba7203df.jpg
END:VEVENT
BEGIN:VEVENT
DTSTART;TZID=America/Los_Angeles:20260807T210000
DTEND;TZID=America/Los_Angeles:20260808T020000
DTSTAMP:20260425T172236
CREATED:20260423T215354Z
LAST-MODIFIED:20260423T215354Z
UID:10003462-1786136400-1786154400@lbcvibe.com
SUMMARY:a dive bar night at Stache called Pop Out - Long Beach - the best deejays!
DESCRIPTION:Pop Out: a raw\, real Long Beach dive-bar night at Stache Bar — locals\, loud music\, no ego\, no cover. Pull up and meet your new friends.
URL:https://lbcvibe.com/event/a-dive-bar-night-at-stache-called-pop-out-long-beach-the-best-deejays-4/
LOCATION:The Stache Bar\, 941 East 4th Street\, Long Beach\, CA\, 90802\, United States
CATEGORIES:EVENT
ATTACH;FMTTYPE=image/jpeg:https://lbcvibe.com/wp-content/uploads/2026/04/f161a41eb9b0e514d52a8d2b3d47003b.jpg
END:VEVENT
BEGIN:VEVENT
DTSTART;TZID=America/Los_Angeles:20260808T110000
DTEND;TZID=America/Los_Angeles:20260808T120000
DTSTAMP:20260425T172236
CREATED:20251226T203846Z
LAST-MODIFIED:20251226T203846Z
UID:10002996-1786186800-1786190400@lbcvibe.com
SUMMARY:BEER YOGA at Trademark Brewing\, Long Beach
DESCRIPTION:Join us for Saturday BREWERY YOGA and namasté for a recovery beer at Trademark Brewing!
URL:https://lbcvibe.com/event/beer-yoga-at-trademark-brewing-long-beach-33/
LOCATION:Trademark Brewing\, 233 E Anaheim St\, Long Beach\, CA\, 90813\, United States
CATEGORIES:EVENT
ATTACH;FMTTYPE=image/jpeg:https://lbcvibe.com/wp-content/uploads/2025/12/1e8a110028129a0d6797d3971b725694.jpg
GEO:33.782936;-118.1903
X-APPLE-STRUCTURED-LOCATION;VALUE=URI;X-ADDRESS=Trademark Brewing 233 E Anaheim St Long Beach CA 90813 United States;X-APPLE-RADIUS=500;X-TITLE=233 E Anaheim St:geo:-118.1903,33.782936
END:VEVENT
BEGIN:VEVENT
DTSTART;TZID=America/Los_Angeles:20260808T220000
DTEND;TZID=America/Los_Angeles:20260809T020000
DTSTAMP:20260425T172236
CREATED:20260423T215408Z
LAST-MODIFIED:20260423T215408Z
UID:10003470-1786226400-1786240800@lbcvibe.com
SUMMARY:a Loft Party Called RSVP - in Long Beach
DESCRIPTION:Curated Neighborhood Hip Hop\, Dance R&B Party by R+D – Featuring our community and  friends that create the best vibes ever. <3
URL:https://lbcvibe.com/event/a-loft-party-called-rsvp-in-long-beach-4/
LOCATION:Shannon’s At The Top\, 105 West Broadway\, Long Beach\, CA\, 90802\, United States
CATEGORIES:EVENT
ATTACH;FMTTYPE=image/jpeg:https://lbcvibe.com/wp-content/uploads/2026/04/d0f3ee5f60f1ce0914ea3d4dfd9f684c.jpg
END:VEVENT
BEGIN:VEVENT
DTSTART;TZID=America/Los_Angeles:20260810T190000
DTEND;TZID=America/Los_Angeles:20260810T213000
DTSTAMP:20260425T172236
CREATED:20260423T222136Z
LAST-MODIFIED:20260423T222136Z
UID:10003551-1786388400-1786397400@lbcvibe.com
SUMMARY:Movie Mondays & Specials at Zaferia Beer Lab
DESCRIPTION:Want to shake off the Monday blues? Every Monday\, we’re transforming the Beer Lab into your local pop cinema!
URL:https://lbcvibe.com/event/movie-mondays-specials-at-zaferia-beer-lab-16/
LOCATION:Long Beach Beer Lab (Zaferia)\, 4000 East Anaheim Street\, #Ste 1a\, Long Beach\, CA\, 90804\, United States
CATEGORIES:EVENT
ATTACH;FMTTYPE=image/jpeg:https://lbcvibe.com/wp-content/uploads/2026/04/c7ff94c9f34f66d3bbcbeb87420d706d.jpg
END:VEVENT
BEGIN:VEVENT
DTSTART;TZID=America/Los_Angeles:20260811T190000
DTEND;TZID=America/Los_Angeles:20260811T233000
DTSTAMP:20260425T172236
CREATED:20260423T222221Z
LAST-MODIFIED:20260423T222221Z
UID:10003601-1786474800-1786491000@lbcvibe.com
SUMMARY:Best Karaoke In Long Beach at Roxanne's
DESCRIPTION:Karaoke Night at Roxanne’s! Grab the mic\, hype the room\, and enjoy late-night food\, drinks\, and high-energy vibes in Long Beach.
URL:https://lbcvibe.com/event/best-karaoke-in-long-beach-at-roxannes-16/
LOCATION:Roxanne’s\, 1115 E Wardlow Rd\, Long Beach\, CA\, United States
CATEGORIES:EVENT
ATTACH;FMTTYPE=image/jpeg:https://lbcvibe.com/wp-content/uploads/2026/04/b07d52b2897a891ade02be5e8e007692.jpg
GEO:33.819122;-118.17804
X-APPLE-STRUCTURED-LOCATION;VALUE=URI;X-ADDRESS=Roxanne’s 1115 E Wardlow Rd Long Beach CA United States;X-APPLE-RADIUS=500;X-TITLE=1115 E Wardlow Rd:geo:-118.17804,33.819122
END:VEVENT
BEGIN:VEVENT
DTSTART;TZID=America/Los_Angeles:20260812T190000
DTEND;TZID=America/Los_Angeles:20260812T210000
DTSTAMP:20260425T172236
CREATED:20260423T222025Z
LAST-MODIFIED:20260423T222025Z
UID:10003501-1786561200-1786568400@lbcvibe.com
SUMMARY:Trivia Nights at Wrigley Beer Lab
DESCRIPTION:Fresh batch of brain-bending trivia for all you knowledge fermenters out there!
URL:https://lbcvibe.com/event/trivia-nights-at-wrigley-beer-lab-17/
LOCATION:Long Beach Beer Lab (Wrigley)\, 518 West Willow Street\, Long Beach\, CA\, 90806\, United States
CATEGORIES:EVENT
ATTACH;FMTTYPE=image/jpeg:https://lbcvibe.com/wp-content/uploads/2026/04/daf31faf101efcdba1c254bfba7203df.jpg
END:VEVENT
BEGIN:VEVENT
DTSTART;TZID=America/Los_Angeles:20260815T110000
DTEND;TZID=America/Los_Angeles:20260815T120000
DTSTAMP:20260425T172236
CREATED:20251226T203847Z
LAST-MODIFIED:20251226T203847Z
UID:10002997-1786791600-1786795200@lbcvibe.com
SUMMARY:BEER YOGA at Trademark Brewing\, Long Beach
DESCRIPTION:Join us for Saturday BREWERY YOGA and namasté for a recovery beer at Trademark Brewing!
URL:https://lbcvibe.com/event/beer-yoga-at-trademark-brewing-long-beach-34/
LOCATION:Trademark Brewing\, 233 E Anaheim St\, Long Beach\, CA\, 90813\, United States
CATEGORIES:EVENT
ATTACH;FMTTYPE=image/jpeg:https://lbcvibe.com/wp-content/uploads/2025/12/1e8a110028129a0d6797d3971b725694.jpg
GEO:33.782936;-118.1903
X-APPLE-STRUCTURED-LOCATION;VALUE=URI;X-ADDRESS=Trademark Brewing 233 E Anaheim St Long Beach CA 90813 United States;X-APPLE-RADIUS=500;X-TITLE=233 E Anaheim St:geo:-118.1903,33.782936
END:VEVENT
BEGIN:VEVENT
DTSTART;TZID=America/Los_Angeles:20260817T190000
DTEND;TZID=America/Los_Angeles:20260817T213000
DTSTAMP:20260425T172236
CREATED:20260423T222136Z
LAST-MODIFIED:20260423T222136Z
UID:10003552-1786993200-1787002200@lbcvibe.com
SUMMARY:Movie Mondays & Specials at Zaferia Beer Lab
DESCRIPTION:Want to shake off the Monday blues? Every Monday\, we’re transforming the Beer Lab into your local pop cinema!
URL:https://lbcvibe.com/event/movie-mondays-specials-at-zaferia-beer-lab-17/
LOCATION:Long Beach Beer Lab (Zaferia)\, 4000 East Anaheim Street\, #Ste 1a\, Long Beach\, CA\, 90804\, United States
CATEGORIES:EVENT
ATTACH;FMTTYPE=image/jpeg:https://lbcvibe.com/wp-content/uploads/2026/04/c7ff94c9f34f66d3bbcbeb87420d706d.jpg
END:VEVENT
BEGIN:VEVENT
DTSTART;TZID=America/Los_Angeles:20260818T190000
DTEND;TZID=America/Los_Angeles:20260818T233000
DTSTAMP:20260425T172236
CREATED:20260423T222221Z
LAST-MODIFIED:20260423T222221Z
UID:10003602-1787079600-1787095800@lbcvibe.com
SUMMARY:Best Karaoke In Long Beach at Roxanne's
DESCRIPTION:Karaoke Night at Roxanne’s! Grab the mic\, hype the room\, and enjoy late-night food\, drinks\, and high-energy vibes in Long Beach.
URL:https://lbcvibe.com/event/best-karaoke-in-long-beach-at-roxannes-17/
LOCATION:Roxanne’s\, 1115 E Wardlow Rd\, Long Beach\, CA\, United States
CATEGORIES:EVENT
ATTACH;FMTTYPE=image/jpeg:https://lbcvibe.com/wp-content/uploads/2026/04/b07d52b2897a891ade02be5e8e007692.jpg
GEO:33.819122;-118.17804
X-APPLE-STRUCTURED-LOCATION;VALUE=URI;X-ADDRESS=Roxanne’s 1115 E Wardlow Rd Long Beach CA United States;X-APPLE-RADIUS=500;X-TITLE=1115 E Wardlow Rd:geo:-118.17804,33.819122
END:VEVENT
BEGIN:VEVENT
DTSTART;TZID=America/Los_Angeles:20260819T190000
DTEND;TZID=America/Los_Angeles:20260819T210000
DTSTAMP:20260425T172236
CREATED:20260423T222026Z
LAST-MODIFIED:20260423T222026Z
UID:10003502-1787166000-1787173200@lbcvibe.com
SUMMARY:Trivia Nights at Wrigley Beer Lab
DESCRIPTION:Fresh batch of brain-bending trivia for all you knowledge fermenters out there!
URL:https://lbcvibe.com/event/trivia-nights-at-wrigley-beer-lab-18/
LOCATION:Long Beach Beer Lab (Wrigley)\, 518 West Willow Street\, Long Beach\, CA\, 90806\, United States
CATEGORIES:EVENT
ATTACH;FMTTYPE=image/jpeg:https://lbcvibe.com/wp-content/uploads/2026/04/daf31faf101efcdba1c254bfba7203df.jpg
END:VEVENT
BEGIN:VEVENT
DTSTART;TZID=America/Los_Angeles:20260821T210000
DTEND;TZID=America/Los_Angeles:20260822T010000
DTSTAMP:20260425T172236
CREATED:20260423T215423Z
LAST-MODIFIED:20260423T215423Z
UID:10003479-1787346000-1787360400@lbcvibe.com
SUMMARY:SALA After Dark - 21+
DESCRIPTION:SALA After Dark: Hip Hop\, R&B\, throwbacks & deep cuts in an intimate lounge built for music lovers.
URL:https://lbcvibe.com/event/sala-after-dark-21-4/
LOCATION:SALA Coffee & Wine Bar\, 3853 Atlantic Avenue\, Long Beach\, CA\, 90807\, United States
CATEGORIES:EVENT
ATTACH;FMTTYPE=image/jpeg:https://lbcvibe.com/wp-content/uploads/2026/04/ade8cd779a4a978b40343f5cf1494548.jpg
END:VEVENT
BEGIN:VEVENT
DTSTART;TZID=America/Los_Angeles:20260822T110000
DTEND;TZID=America/Los_Angeles:20260822T120000
DTSTAMP:20260425T172236
CREATED:20251226T203847Z
LAST-MODIFIED:20251226T203847Z
UID:10002998-1787396400-1787400000@lbcvibe.com
SUMMARY:BEER YOGA at Trademark Brewing\, Long Beach
DESCRIPTION:Join us for Saturday BREWERY YOGA and namasté for a recovery beer at Trademark Brewing!
URL:https://lbcvibe.com/event/beer-yoga-at-trademark-brewing-long-beach-35/
LOCATION:Trademark Brewing\, 233 E Anaheim St\, Long Beach\, CA\, 90813\, United States
CATEGORIES:EVENT
ATTACH;FMTTYPE=image/jpeg:https://lbcvibe.com/wp-content/uploads/2025/12/1e8a110028129a0d6797d3971b725694.jpg
GEO:33.782936;-118.1903
X-APPLE-STRUCTURED-LOCATION;VALUE=URI;X-ADDRESS=Trademark Brewing 233 E Anaheim St Long Beach CA 90813 United States;X-APPLE-RADIUS=500;X-TITLE=233 E Anaheim St:geo:-118.1903,33.782936
END:VEVENT
BEGIN:VEVENT
DTSTART;TZID=America/Los_Angeles:20260822T210000
DTEND;TZID=America/Los_Angeles:20260823T020000
DTSTAMP:20260425T172236
CREATED:20260116T201207Z
LAST-MODIFIED:20260423T215421Z
UID:10003198-1787432400-1787450400@lbcvibe.com
SUMMARY:Lost n Found — Your R&B Night at Que Sera <3
DESCRIPTION:A soulful R&B night at Que Sera in Long Beach — every 4th Saturday. Good vibes\, throwbacks\, modern hits\, and real community energy.
URL:https://lbcvibe.com/event/lost-n-found-your-rb-night-at-sala-3-8/
LOCATION:Que Sera\, 1923 East 7th Street\, Long Beach\, CA\, 90813\, United States
CATEGORIES:EVENT
ATTACH;FMTTYPE=image/jpeg:https://lbcvibe.com/wp-content/uploads/2026/01/49223d6221aae148a7703a8b5ec2e9f1.jpg
END:VEVENT
BEGIN:VEVENT
DTSTART;TZID=America/Los_Angeles:20260824T190000
DTEND;TZID=America/Los_Angeles:20260824T213000
DTSTAMP:20260425T172236
CREATED:20260423T222136Z
LAST-MODIFIED:20260423T222136Z
UID:10003553-1787598000-1787607000@lbcvibe.com
SUMMARY:Movie Mondays & Specials at Zaferia Beer Lab
DESCRIPTION:Want to shake off the Monday blues? Every Monday\, we’re transforming the Beer Lab into your local pop cinema!
URL:https://lbcvibe.com/event/movie-mondays-specials-at-zaferia-beer-lab-18/
LOCATION:Long Beach Beer Lab (Zaferia)\, 4000 East Anaheim Street\, #Ste 1a\, Long Beach\, CA\, 90804\, United States
CATEGORIES:EVENT
ATTACH;FMTTYPE=image/jpeg:https://lbcvibe.com/wp-content/uploads/2026/04/c7ff94c9f34f66d3bbcbeb87420d706d.jpg
END:VEVENT
END:VCALENDAR