BEGIN:VCALENDAR
VERSION:2.0
PRODID:-//LBC Vibe - ECPv6.15.20//NONSGML v1.0//EN
CALSCALE:GREGORIAN
METHOD:PUBLISH
X-ORIGINAL-URL:https://lbcvibe.com
X-WR-CALDESC:Events for LBC Vibe
REFRESH-INTERVAL;VALUE=DURATION:PT1H
X-Robots-Tag:noindex
X-PUBLISHED-TTL:PT1H
BEGIN:VTIMEZONE
TZID:America/Los_Angeles
BEGIN:DAYLIGHT
TZOFFSETFROM:-0800
TZOFFSETTO:-0700
TZNAME:PDT
DTSTART:20250309T100000
END:DAYLIGHT
BEGIN:STANDARD
TZOFFSETFROM:-0700
TZOFFSETTO:-0800
TZNAME:PST
DTSTART:20251102T090000
END:STANDARD
BEGIN:DAYLIGHT
TZOFFSETFROM:-0800
TZOFFSETTO:-0700
TZNAME:PDT
DTSTART:20260308T100000
END:DAYLIGHT
BEGIN:STANDARD
TZOFFSETFROM:-0700
TZOFFSETTO:-0800
TZNAME:PST
DTSTART:20261101T090000
END:STANDARD
BEGIN:DAYLIGHT
TZOFFSETFROM:-0800
TZOFFSETTO:-0700
TZNAME:PDT
DTSTART:20270314T100000
END:DAYLIGHT
BEGIN:STANDARD
TZOFFSETFROM:-0700
TZOFFSETTO:-0800
TZNAME:PST
DTSTART:20271107T090000
END:STANDARD
END:VTIMEZONE
BEGIN:VEVENT
DTSTART;TZID=America/Los_Angeles:20260612T193000
DTEND;TZID=America/Los_Angeles:20260612T230000
DTSTAMP:20260425T075643
CREATED:20260423T222331Z
LAST-MODIFIED:20260423T222331Z
UID:10003654-1781292600-1781305200@lbcvibe.com
SUMMARY:"The Bar Hop" - Roxanne’s Experience: A Five-Venue Cocktail Journey
DESCRIPTION:Get ready to sip your way through five awesome spots for a cocktail adventure like no other!
URL:https://lbcvibe.com/event/the-bar-hop-roxannes-experience-a-five-venue-cocktail-journey-44/
LOCATION:Roxanne’s\, 1115 E Wardlow Rd\, Long Beach\, CA\, United States
CATEGORIES:EVENT
ATTACH;FMTTYPE=image/jpeg:https://lbcvibe.com/wp-content/uploads/2026/04/b10cce8ca1bfe5ff85d75ff100bd55e7.jpg
GEO:33.819122;-118.17804
X-APPLE-STRUCTURED-LOCATION;VALUE=URI;X-ADDRESS=Roxanne’s 1115 E Wardlow Rd Long Beach CA United States;X-APPLE-RADIUS=500;X-TITLE=1115 E Wardlow Rd:geo:-118.17804,33.819122
END:VEVENT
BEGIN:VEVENT
DTSTART;TZID=America/Los_Angeles:20260612T203000
DTEND;TZID=America/Los_Angeles:20260612T235900
DTSTAMP:20260425T075643
CREATED:20260423T222331Z
LAST-MODIFIED:20260423T222331Z
UID:10003655-1781296200-1781308740@lbcvibe.com
SUMMARY:"The Bar Hop" - Roxanne’s Experience: A Five-Venue Cocktail Journey
DESCRIPTION:Get ready to sip your way through five awesome spots for a cocktail adventure like no other!
URL:https://lbcvibe.com/event/the-bar-hop-roxannes-experience-a-five-venue-cocktail-journey-45/
LOCATION:Roxanne’s\, 1115 E Wardlow Rd\, Long Beach\, CA\, United States
CATEGORIES:EVENT
ATTACH;FMTTYPE=image/jpeg:https://lbcvibe.com/wp-content/uploads/2026/04/b10cce8ca1bfe5ff85d75ff100bd55e7.jpg
GEO:33.819122;-118.17804
X-APPLE-STRUCTURED-LOCATION;VALUE=URI;X-ADDRESS=Roxanne’s 1115 E Wardlow Rd Long Beach CA United States;X-APPLE-RADIUS=500;X-TITLE=1115 E Wardlow Rd:geo:-118.17804,33.819122
END:VEVENT
BEGIN:VEVENT
DTSTART;TZID=America/Los_Angeles:20260612T220000
DTEND;TZID=America/Los_Angeles:20260613T020000
DTSTAMP:20260425T075643
CREATED:20260102T195158Z
LAST-MODIFIED:20260102T195158Z
UID:10003124-1781301600-1781316000@lbcvibe.com
SUMMARY:Sevilla Long Beach Nightlife|Latin\, Reggaeton & Hip Hop Fridays + Saturdays
DESCRIPTION:Turn up your weekends!  Fridays & Saturdays at Sevilla Long Beach with top DJs spinning Reggaeton\, Hip Hop & EDM.
URL:https://lbcvibe.com/event/sevilla-long-beach-nightlifelatin-reggaeton-hip-hop-fridays-saturdays-47/
LOCATION:Sevilla Nightclub of Long Beach\, 140 Pine Avenue\, Long Beach\, CA\, 90802\, United States
CATEGORIES:EVENT
ATTACH;FMTTYPE=image/jpeg:https://lbcvibe.com/wp-content/uploads/2026/01/b94dd2120d87d7e2d16ba954e7f7c15d.jpg
GEO:33.76882;-118.19203
X-APPLE-STRUCTURED-LOCATION;VALUE=URI;X-ADDRESS=Sevilla Nightclub of Long Beach 140 Pine Avenue Long Beach CA 90802 United States;X-APPLE-RADIUS=500;X-TITLE=140 Pine Avenue:geo:-118.19203,33.76882
END:VEVENT
BEGIN:VEVENT
DTSTART;TZID=America/Los_Angeles:20260613T110000
DTEND;TZID=America/Los_Angeles:20260613T120000
DTSTAMP:20260425T075643
CREATED:20251226T203833Z
LAST-MODIFIED:20251226T203833Z
UID:10002988-1781348400-1781352000@lbcvibe.com
SUMMARY:BEER YOGA at Trademark Brewing\, Long Beach
DESCRIPTION:Join us for Saturday BREWERY YOGA and namasté for a recovery beer at Trademark Brewing!
URL:https://lbcvibe.com/event/beer-yoga-at-trademark-brewing-long-beach-25/
LOCATION:Trademark Brewing\, 233 E Anaheim St\, Long Beach\, CA\, 90813\, United States
CATEGORIES:EVENT
ATTACH;FMTTYPE=image/jpeg:https://lbcvibe.com/wp-content/uploads/2025/12/1e8a110028129a0d6797d3971b725694.jpg
GEO:33.782936;-118.1903
X-APPLE-STRUCTURED-LOCATION;VALUE=URI;X-ADDRESS=Trademark Brewing 233 E Anaheim St Long Beach CA 90813 United States;X-APPLE-RADIUS=500;X-TITLE=233 E Anaheim St:geo:-118.1903,33.782936
END:VEVENT
BEGIN:VEVENT
DTSTART;TZID=America/Los_Angeles:20260613T183000
DTEND;TZID=America/Los_Angeles:20260613T220000
DTSTAMP:20260425T075643
CREATED:20260423T222331Z
LAST-MODIFIED:20260423T222331Z
UID:10003656-1781375400-1781388000@lbcvibe.com
SUMMARY:"The Bar Hop" - Roxanne’s Experience: A Five-Venue Cocktail Journey
DESCRIPTION:Get ready to sip your way through five awesome spots for a cocktail adventure like no other!
URL:https://lbcvibe.com/event/the-bar-hop-roxannes-experience-a-five-venue-cocktail-journey-46/
LOCATION:Roxanne’s\, 1115 E Wardlow Rd\, Long Beach\, CA\, United States
CATEGORIES:EVENT
ATTACH;FMTTYPE=image/jpeg:https://lbcvibe.com/wp-content/uploads/2026/04/b10cce8ca1bfe5ff85d75ff100bd55e7.jpg
GEO:33.819122;-118.17804
X-APPLE-STRUCTURED-LOCATION;VALUE=URI;X-ADDRESS=Roxanne’s 1115 E Wardlow Rd Long Beach CA United States;X-APPLE-RADIUS=500;X-TITLE=1115 E Wardlow Rd:geo:-118.17804,33.819122
END:VEVENT
BEGIN:VEVENT
DTSTART;TZID=America/Los_Angeles:20260613T193000
DTEND;TZID=America/Los_Angeles:20260613T230000
DTSTAMP:20260425T075643
CREATED:20260423T222331Z
LAST-MODIFIED:20260423T222331Z
UID:10003657-1781379000-1781391600@lbcvibe.com
SUMMARY:"The Bar Hop" - Roxanne’s Experience: A Five-Venue Cocktail Journey
DESCRIPTION:Get ready to sip your way through five awesome spots for a cocktail adventure like no other!
URL:https://lbcvibe.com/event/the-bar-hop-roxannes-experience-a-five-venue-cocktail-journey-47/
LOCATION:Roxanne’s\, 1115 E Wardlow Rd\, Long Beach\, CA\, United States
CATEGORIES:EVENT
ATTACH;FMTTYPE=image/jpeg:https://lbcvibe.com/wp-content/uploads/2026/04/b10cce8ca1bfe5ff85d75ff100bd55e7.jpg
GEO:33.819122;-118.17804
X-APPLE-STRUCTURED-LOCATION;VALUE=URI;X-ADDRESS=Roxanne’s 1115 E Wardlow Rd Long Beach CA United States;X-APPLE-RADIUS=500;X-TITLE=1115 E Wardlow Rd:geo:-118.17804,33.819122
END:VEVENT
BEGIN:VEVENT
DTSTART;TZID=America/Los_Angeles:20260613T203000
DTEND;TZID=America/Los_Angeles:20260613T235900
DTSTAMP:20260425T075643
CREATED:20260423T222346Z
LAST-MODIFIED:20260423T222346Z
UID:10003658-1781382600-1781395140@lbcvibe.com
SUMMARY:"The Bar Hop" - Roxanne’s Experience: A Five-Venue Cocktail Journey
DESCRIPTION:Get ready to sip your way through five awesome spots for a cocktail adventure like no other!
URL:https://lbcvibe.com/event/the-bar-hop-roxannes-experience-a-five-venue-cocktail-journey-48/
LOCATION:Roxanne’s\, 1115 E Wardlow Rd\, Long Beach\, CA\, United States
CATEGORIES:EVENT
ATTACH;FMTTYPE=image/jpeg:https://lbcvibe.com/wp-content/uploads/2026/04/b10cce8ca1bfe5ff85d75ff100bd55e7.jpg
GEO:33.819122;-118.17804
X-APPLE-STRUCTURED-LOCATION;VALUE=URI;X-ADDRESS=Roxanne’s 1115 E Wardlow Rd Long Beach CA United States;X-APPLE-RADIUS=500;X-TITLE=1115 E Wardlow Rd:geo:-118.17804,33.819122
END:VEVENT
BEGIN:VEVENT
DTSTART;TZID=America/Los_Angeles:20260613T220000
DTEND;TZID=America/Los_Angeles:20260614T020000
DTSTAMP:20260425T075643
CREATED:20260102T195158Z
LAST-MODIFIED:20260102T195158Z
UID:10003125-1781388000-1781402400@lbcvibe.com
SUMMARY:Sevilla Long Beach Nightlife|Latin\, Reggaeton & Hip Hop Fridays + Saturdays
DESCRIPTION:Turn up your weekends!  Fridays & Saturdays at Sevilla Long Beach with top DJs spinning Reggaeton\, Hip Hop & EDM.
URL:https://lbcvibe.com/event/sevilla-long-beach-nightlifelatin-reggaeton-hip-hop-fridays-saturdays-48/
LOCATION:Sevilla Nightclub of Long Beach\, 140 Pine Avenue\, Long Beach\, CA\, 90802\, United States
CATEGORIES:EVENT
ATTACH;FMTTYPE=image/jpeg:https://lbcvibe.com/wp-content/uploads/2026/01/b94dd2120d87d7e2d16ba954e7f7c15d.jpg
GEO:33.76882;-118.19203
X-APPLE-STRUCTURED-LOCATION;VALUE=URI;X-ADDRESS=Sevilla Nightclub of Long Beach 140 Pine Avenue Long Beach CA 90802 United States;X-APPLE-RADIUS=500;X-TITLE=140 Pine Avenue:geo:-118.19203,33.76882
END:VEVENT
BEGIN:VEVENT
DTSTART;TZID=America/Los_Angeles:20260613T220000
DTEND;TZID=America/Los_Angeles:20260614T020000
DTSTAMP:20260425T075643
CREATED:20260423T215356Z
LAST-MODIFIED:20260423T215356Z
UID:10003468-1781388000-1781402400@lbcvibe.com
SUMMARY:a Loft Party Called RSVP - in Long Beach
DESCRIPTION:Curated Neighborhood Hip Hop\, Dance R&B Party by R+D – Featuring our community and  friends that create the best vibes ever. <3
URL:https://lbcvibe.com/event/a-loft-party-called-rsvp-in-long-beach-2/
LOCATION:Shannon’s At The Top\, 105 West Broadway\, Long Beach\, CA\, 90802\, United States
CATEGORIES:EVENT
ATTACH;FMTTYPE=image/jpeg:https://lbcvibe.com/wp-content/uploads/2026/04/d0f3ee5f60f1ce0914ea3d4dfd9f684c.jpg
END:VEVENT
BEGIN:VEVENT
DTSTART;TZID=America/Los_Angeles:20260615T190000
DTEND;TZID=America/Los_Angeles:20260615T213000
DTSTAMP:20260425T075643
CREATED:20260423T222124Z
LAST-MODIFIED:20260423T222124Z
UID:10003543-1781550000-1781559000@lbcvibe.com
SUMMARY:Movie Mondays & Specials at Zaferia Beer Lab
DESCRIPTION:Want to shake off the Monday blues? Every Monday\, we’re transforming the Beer Lab into your local pop cinema!
URL:https://lbcvibe.com/event/movie-mondays-specials-at-zaferia-beer-lab-8/
LOCATION:Long Beach Beer Lab (Zaferia)\, 4000 East Anaheim Street\, #Ste 1a\, Long Beach\, CA\, 90804\, United States
CATEGORIES:EVENT
ATTACH;FMTTYPE=image/jpeg:https://lbcvibe.com/wp-content/uploads/2026/04/c7ff94c9f34f66d3bbcbeb87420d706d.jpg
END:VEVENT
BEGIN:VEVENT
DTSTART;TZID=America/Los_Angeles:20260616T190000
DTEND;TZID=America/Los_Angeles:20260616T233000
DTSTAMP:20260425T075643
CREATED:20260423T222209Z
LAST-MODIFIED:20260423T222209Z
UID:10003583-1781636400-1781652600@lbcvibe.com
SUMMARY:Best Karaoke In Long Beach at Roxanne's
DESCRIPTION:Karaoke Night at Roxanne’s! Grab the mic\, hype the room\, and enjoy late-night food\, drinks\, and high-energy vibes in Long Beach.
URL:https://lbcvibe.com/event/best-karaoke-in-long-beach-at-roxannes-8/
LOCATION:Roxanne’s\, 1115 E Wardlow Rd\, Long Beach\, CA\, United States
CATEGORIES:EVENT
ATTACH;FMTTYPE=image/jpeg:https://lbcvibe.com/wp-content/uploads/2026/04/b07d52b2897a891ade02be5e8e007692.jpg
GEO:33.819122;-118.17804
X-APPLE-STRUCTURED-LOCATION;VALUE=URI;X-ADDRESS=Roxanne’s 1115 E Wardlow Rd Long Beach CA United States;X-APPLE-RADIUS=500;X-TITLE=1115 E Wardlow Rd:geo:-118.17804,33.819122
END:VEVENT
BEGIN:VEVENT
DTSTART;TZID=America/Los_Angeles:20260617T190000
DTEND;TZID=America/Los_Angeles:20260617T210000
DTSTAMP:20260425T075643
CREATED:20260423T221958Z
LAST-MODIFIED:20260423T221958Z
UID:10003493-1781722800-1781730000@lbcvibe.com
SUMMARY:Trivia Nights at Wrigley Beer Lab
DESCRIPTION:Fresh batch of brain-bending trivia for all you knowledge fermenters out there!
URL:https://lbcvibe.com/event/trivia-nights-at-wrigley-beer-lab-9/
LOCATION:Long Beach Beer Lab (Wrigley)\, 518 West Willow Street\, Long Beach\, CA\, 90806\, United States
CATEGORIES:EVENT
ATTACH;FMTTYPE=image/jpeg:https://lbcvibe.com/wp-content/uploads/2026/04/daf31faf101efcdba1c254bfba7203df.jpg
END:VEVENT
BEGIN:VEVENT
DTSTART;TZID=America/Los_Angeles:20260619T183000
DTEND;TZID=America/Los_Angeles:20260619T220000
DTSTAMP:20260425T075643
CREATED:20260423T222346Z
LAST-MODIFIED:20260423T222346Z
UID:10003659-1781893800-1781906400@lbcvibe.com
SUMMARY:"The Bar Hop" - Roxanne’s Experience: A Five-Venue Cocktail Journey
DESCRIPTION:Get ready to sip your way through five awesome spots for a cocktail adventure like no other!
URL:https://lbcvibe.com/event/the-bar-hop-roxannes-experience-a-five-venue-cocktail-journey-49/
LOCATION:Roxanne’s\, 1115 E Wardlow Rd\, Long Beach\, CA\, United States
CATEGORIES:EVENT
ATTACH;FMTTYPE=image/jpeg:https://lbcvibe.com/wp-content/uploads/2026/04/b10cce8ca1bfe5ff85d75ff100bd55e7.jpg
GEO:33.819122;-118.17804
X-APPLE-STRUCTURED-LOCATION;VALUE=URI;X-ADDRESS=Roxanne’s 1115 E Wardlow Rd Long Beach CA United States;X-APPLE-RADIUS=500;X-TITLE=1115 E Wardlow Rd:geo:-118.17804,33.819122
END:VEVENT
BEGIN:VEVENT
DTSTART;TZID=America/Los_Angeles:20260619T193000
DTEND;TZID=America/Los_Angeles:20260619T230000
DTSTAMP:20260425T075643
CREATED:20260423T222346Z
LAST-MODIFIED:20260423T222346Z
UID:10003660-1781897400-1781910000@lbcvibe.com
SUMMARY:"The Bar Hop" - Roxanne’s Experience: A Five-Venue Cocktail Journey
DESCRIPTION:Get ready to sip your way through five awesome spots for a cocktail adventure like no other!
URL:https://lbcvibe.com/event/the-bar-hop-roxannes-experience-a-five-venue-cocktail-journey-50/
LOCATION:Roxanne’s\, 1115 E Wardlow Rd\, Long Beach\, CA\, United States
CATEGORIES:EVENT
ATTACH;FMTTYPE=image/jpeg:https://lbcvibe.com/wp-content/uploads/2026/04/b10cce8ca1bfe5ff85d75ff100bd55e7.jpg
GEO:33.819122;-118.17804
X-APPLE-STRUCTURED-LOCATION;VALUE=URI;X-ADDRESS=Roxanne’s 1115 E Wardlow Rd Long Beach CA United States;X-APPLE-RADIUS=500;X-TITLE=1115 E Wardlow Rd:geo:-118.17804,33.819122
END:VEVENT
BEGIN:VEVENT
DTSTART;TZID=America/Los_Angeles:20260619T210000
DTEND;TZID=America/Los_Angeles:20260620T010000
DTSTAMP:20260425T075643
CREATED:20260423T215423Z
LAST-MODIFIED:20260423T215423Z
UID:10003477-1781902800-1781917200@lbcvibe.com
SUMMARY:SALA After Dark - 21+
DESCRIPTION:SALA After Dark: Hip Hop\, R&B\, throwbacks & deep cuts in an intimate lounge built for music lovers.
URL:https://lbcvibe.com/event/sala-after-dark-21-2/
LOCATION:SALA Coffee & Wine Bar\, 3853 Atlantic Avenue\, Long Beach\, CA\, 90807\, United States
CATEGORIES:EVENT
ATTACH;FMTTYPE=image/jpeg:https://lbcvibe.com/wp-content/uploads/2026/04/ade8cd779a4a978b40343f5cf1494548.jpg
END:VEVENT
BEGIN:VEVENT
DTSTART;TZID=America/Los_Angeles:20260619T220000
DTEND;TZID=America/Los_Angeles:20260620T020000
DTSTAMP:20260425T075643
CREATED:20260102T195158Z
LAST-MODIFIED:20260102T195158Z
UID:10003126-1781906400-1781920800@lbcvibe.com
SUMMARY:Sevilla Long Beach Nightlife|Latin\, Reggaeton & Hip Hop Fridays + Saturdays
DESCRIPTION:Turn up your weekends!  Fridays & Saturdays at Sevilla Long Beach with top DJs spinning Reggaeton\, Hip Hop & EDM.
URL:https://lbcvibe.com/event/sevilla-long-beach-nightlifelatin-reggaeton-hip-hop-fridays-saturdays-49/
LOCATION:Sevilla Nightclub of Long Beach\, 140 Pine Avenue\, Long Beach\, CA\, 90802\, United States
CATEGORIES:EVENT
ATTACH;FMTTYPE=image/jpeg:https://lbcvibe.com/wp-content/uploads/2026/01/b94dd2120d87d7e2d16ba954e7f7c15d.jpg
GEO:33.76882;-118.19203
X-APPLE-STRUCTURED-LOCATION;VALUE=URI;X-ADDRESS=Sevilla Nightclub of Long Beach 140 Pine Avenue Long Beach CA 90802 United States;X-APPLE-RADIUS=500;X-TITLE=140 Pine Avenue:geo:-118.19203,33.76882
END:VEVENT
BEGIN:VEVENT
DTSTART;TZID=America/Los_Angeles:20260620T110000
DTEND;TZID=America/Los_Angeles:20260620T120000
DTSTAMP:20260425T075643
CREATED:20251226T203833Z
LAST-MODIFIED:20251226T203833Z
UID:10002989-1781953200-1781956800@lbcvibe.com
SUMMARY:BEER YOGA at Trademark Brewing\, Long Beach
DESCRIPTION:Join us for Saturday BREWERY YOGA and namasté for a recovery beer at Trademark Brewing!
URL:https://lbcvibe.com/event/beer-yoga-at-trademark-brewing-long-beach-26/
LOCATION:Trademark Brewing\, 233 E Anaheim St\, Long Beach\, CA\, 90813\, United States
CATEGORIES:EVENT
ATTACH;FMTTYPE=image/jpeg:https://lbcvibe.com/wp-content/uploads/2025/12/1e8a110028129a0d6797d3971b725694.jpg
GEO:33.782936;-118.1903
X-APPLE-STRUCTURED-LOCATION;VALUE=URI;X-ADDRESS=Trademark Brewing 233 E Anaheim St Long Beach CA 90813 United States;X-APPLE-RADIUS=500;X-TITLE=233 E Anaheim St:geo:-118.1903,33.782936
END:VEVENT
BEGIN:VEVENT
DTSTART;TZID=America/Los_Angeles:20260620T220000
DTEND;TZID=America/Los_Angeles:20260621T020000
DTSTAMP:20260425T075643
CREATED:20260102T195159Z
LAST-MODIFIED:20260102T195159Z
UID:10003127-1781992800-1782007200@lbcvibe.com
SUMMARY:Sevilla Long Beach Nightlife|Latin\, Reggaeton & Hip Hop Fridays + Saturdays
DESCRIPTION:Turn up your weekends!  Fridays & Saturdays at Sevilla Long Beach with top DJs spinning Reggaeton\, Hip Hop & EDM.
URL:https://lbcvibe.com/event/sevilla-long-beach-nightlifelatin-reggaeton-hip-hop-fridays-saturdays-50/
LOCATION:Sevilla Nightclub of Long Beach\, 140 Pine Avenue\, Long Beach\, CA\, 90802\, United States
CATEGORIES:EVENT
ATTACH;FMTTYPE=image/jpeg:https://lbcvibe.com/wp-content/uploads/2026/01/b94dd2120d87d7e2d16ba954e7f7c15d.jpg
GEO:33.76882;-118.19203
X-APPLE-STRUCTURED-LOCATION;VALUE=URI;X-ADDRESS=Sevilla Nightclub of Long Beach 140 Pine Avenue Long Beach CA 90802 United States;X-APPLE-RADIUS=500;X-TITLE=140 Pine Avenue:geo:-118.19203,33.76882
END:VEVENT
BEGIN:VEVENT
DTSTART;TZID=America/Los_Angeles:20260622T190000
DTEND;TZID=America/Los_Angeles:20260622T213000
DTSTAMP:20260425T075643
CREATED:20260423T222124Z
LAST-MODIFIED:20260423T222124Z
UID:10003544-1782154800-1782163800@lbcvibe.com
SUMMARY:Movie Mondays & Specials at Zaferia Beer Lab
DESCRIPTION:Want to shake off the Monday blues? Every Monday\, we’re transforming the Beer Lab into your local pop cinema!
URL:https://lbcvibe.com/event/movie-mondays-specials-at-zaferia-beer-lab-9/
LOCATION:Long Beach Beer Lab (Zaferia)\, 4000 East Anaheim Street\, #Ste 1a\, Long Beach\, CA\, 90804\, United States
CATEGORIES:EVENT
ATTACH;FMTTYPE=image/jpeg:https://lbcvibe.com/wp-content/uploads/2026/04/c7ff94c9f34f66d3bbcbeb87420d706d.jpg
END:VEVENT
BEGIN:VEVENT
DTSTART;TZID=America/Los_Angeles:20260623T190000
DTEND;TZID=America/Los_Angeles:20260623T233000
DTSTAMP:20260425T075643
CREATED:20260423T222209Z
LAST-MODIFIED:20260423T222209Z
UID:10003584-1782241200-1782257400@lbcvibe.com
SUMMARY:Best Karaoke In Long Beach at Roxanne's
DESCRIPTION:Karaoke Night at Roxanne’s! Grab the mic\, hype the room\, and enjoy late-night food\, drinks\, and high-energy vibes in Long Beach.
URL:https://lbcvibe.com/event/best-karaoke-in-long-beach-at-roxannes-9/
LOCATION:Roxanne’s\, 1115 E Wardlow Rd\, Long Beach\, CA\, United States
CATEGORIES:EVENT
ATTACH;FMTTYPE=image/jpeg:https://lbcvibe.com/wp-content/uploads/2026/04/b07d52b2897a891ade02be5e8e007692.jpg
GEO:33.819122;-118.17804
X-APPLE-STRUCTURED-LOCATION;VALUE=URI;X-ADDRESS=Roxanne’s 1115 E Wardlow Rd Long Beach CA United States;X-APPLE-RADIUS=500;X-TITLE=1115 E Wardlow Rd:geo:-118.17804,33.819122
END:VEVENT
BEGIN:VEVENT
DTSTART;TZID=America/Los_Angeles:20260624T190000
DTEND;TZID=America/Los_Angeles:20260624T210000
DTSTAMP:20260425T075643
CREATED:20260423T221958Z
LAST-MODIFIED:20260423T221958Z
UID:10003494-1782327600-1782334800@lbcvibe.com
SUMMARY:Trivia Nights at Wrigley Beer Lab
DESCRIPTION:Fresh batch of brain-bending trivia for all you knowledge fermenters out there!
URL:https://lbcvibe.com/event/trivia-nights-at-wrigley-beer-lab-10/
LOCATION:Long Beach Beer Lab (Wrigley)\, 518 West Willow Street\, Long Beach\, CA\, 90806\, United States
CATEGORIES:EVENT
ATTACH;FMTTYPE=image/jpeg:https://lbcvibe.com/wp-content/uploads/2026/04/daf31faf101efcdba1c254bfba7203df.jpg
END:VEVENT
BEGIN:VEVENT
DTSTART;TZID=America/Los_Angeles:20260627T110000
DTEND;TZID=America/Los_Angeles:20260627T120000
DTSTAMP:20260425T075643
CREATED:20251226T203833Z
LAST-MODIFIED:20251226T203833Z
UID:10002990-1782558000-1782561600@lbcvibe.com
SUMMARY:BEER YOGA at Trademark Brewing\, Long Beach
DESCRIPTION:Join us for Saturday BREWERY YOGA and namasté for a recovery beer at Trademark Brewing!
URL:https://lbcvibe.com/event/beer-yoga-at-trademark-brewing-long-beach-27/
LOCATION:Trademark Brewing\, 233 E Anaheim St\, Long Beach\, CA\, 90813\, United States
CATEGORIES:EVENT
ATTACH;FMTTYPE=image/jpeg:https://lbcvibe.com/wp-content/uploads/2025/12/1e8a110028129a0d6797d3971b725694.jpg
GEO:33.782936;-118.1903
X-APPLE-STRUCTURED-LOCATION;VALUE=URI;X-ADDRESS=Trademark Brewing 233 E Anaheim St Long Beach CA 90813 United States;X-APPLE-RADIUS=500;X-TITLE=233 E Anaheim St:geo:-118.1903,33.782936
END:VEVENT
BEGIN:VEVENT
DTSTART;TZID=America/Los_Angeles:20260627T210000
DTEND;TZID=America/Los_Angeles:20260628T020000
DTSTAMP:20260425T075643
CREATED:20260116T201206Z
LAST-MODIFIED:20260423T215408Z
UID:10003196-1782594000-1782612000@lbcvibe.com
SUMMARY:Lost n Found — Your R&B Night at Que Sera <3
DESCRIPTION:A soulful R&B night at Que Sera in Long Beach — every 4th Saturday. Good vibes\, throwbacks\, modern hits\, and real community energy.
URL:https://lbcvibe.com/event/lost-n-found-your-rb-night-at-sala-3-6/
LOCATION:Que Sera\, 1923 East 7th Street\, Long Beach\, CA\, 90813\, United States
CATEGORIES:EVENT
ATTACH;FMTTYPE=image/jpeg:https://lbcvibe.com/wp-content/uploads/2026/01/49223d6221aae148a7703a8b5ec2e9f1.jpg
END:VEVENT
BEGIN:VEVENT
DTSTART;TZID=America/Los_Angeles:20260629T190000
DTEND;TZID=America/Los_Angeles:20260629T213000
DTSTAMP:20260425T075643
CREATED:20260423T222124Z
LAST-MODIFIED:20260423T222124Z
UID:10003545-1782759600-1782768600@lbcvibe.com
SUMMARY:Movie Mondays & Specials at Zaferia Beer Lab
DESCRIPTION:Want to shake off the Monday blues? Every Monday\, we’re transforming the Beer Lab into your local pop cinema!
URL:https://lbcvibe.com/event/movie-mondays-specials-at-zaferia-beer-lab-10/
LOCATION:Long Beach Beer Lab (Zaferia)\, 4000 East Anaheim Street\, #Ste 1a\, Long Beach\, CA\, 90804\, United States
CATEGORIES:EVENT
ATTACH;FMTTYPE=image/jpeg:https://lbcvibe.com/wp-content/uploads/2026/04/c7ff94c9f34f66d3bbcbeb87420d706d.jpg
END:VEVENT
BEGIN:VEVENT
DTSTART;TZID=America/Los_Angeles:20260630T190000
DTEND;TZID=America/Los_Angeles:20260630T233000
DTSTAMP:20260425T075643
CREATED:20260423T222209Z
LAST-MODIFIED:20260423T222209Z
UID:10003585-1782846000-1782862200@lbcvibe.com
SUMMARY:Best Karaoke In Long Beach at Roxanne's
DESCRIPTION:Karaoke Night at Roxanne’s! Grab the mic\, hype the room\, and enjoy late-night food\, drinks\, and high-energy vibes in Long Beach.
URL:https://lbcvibe.com/event/best-karaoke-in-long-beach-at-roxannes-10/
LOCATION:Roxanne’s\, 1115 E Wardlow Rd\, Long Beach\, CA\, United States
CATEGORIES:EVENT
ATTACH;FMTTYPE=image/jpeg:https://lbcvibe.com/wp-content/uploads/2026/04/b07d52b2897a891ade02be5e8e007692.jpg
GEO:33.819122;-118.17804
X-APPLE-STRUCTURED-LOCATION;VALUE=URI;X-ADDRESS=Roxanne’s 1115 E Wardlow Rd Long Beach CA United States;X-APPLE-RADIUS=500;X-TITLE=1115 E Wardlow Rd:geo:-118.17804,33.819122
END:VEVENT
BEGIN:VEVENT
DTSTART;TZID=America/Los_Angeles:20260701T190000
DTEND;TZID=America/Los_Angeles:20260701T210000
DTSTAMP:20260425T075643
CREATED:20260423T221958Z
LAST-MODIFIED:20260423T221958Z
UID:10003495-1782932400-1782939600@lbcvibe.com
SUMMARY:Trivia Nights at Wrigley Beer Lab
DESCRIPTION:Fresh batch of brain-bending trivia for all you knowledge fermenters out there!
URL:https://lbcvibe.com/event/trivia-nights-at-wrigley-beer-lab-11/
LOCATION:Long Beach Beer Lab (Wrigley)\, 518 West Willow Street\, Long Beach\, CA\, 90806\, United States
CATEGORIES:EVENT
ATTACH;FMTTYPE=image/jpeg:https://lbcvibe.com/wp-content/uploads/2026/04/daf31faf101efcdba1c254bfba7203df.jpg
END:VEVENT
BEGIN:VEVENT
DTSTART;TZID=America/Los_Angeles:20260703T210000
DTEND;TZID=America/Los_Angeles:20260704T020000
DTSTAMP:20260425T075643
CREATED:20260423T215353Z
LAST-MODIFIED:20260423T215353Z
UID:10003461-1783112400-1783130400@lbcvibe.com
SUMMARY:a dive bar night at Stache called Pop Out - Long Beach - the best deejays!
DESCRIPTION:Pop Out: a raw\, real Long Beach dive-bar night at Stache Bar — locals\, loud music\, no ego\, no cover. Pull up and meet your new friends.
URL:https://lbcvibe.com/event/a-dive-bar-night-at-stache-called-pop-out-long-beach-the-best-deejays-3/
LOCATION:The Stache Bar\, 941 East 4th Street\, Long Beach\, CA\, 90802\, United States
CATEGORIES:EVENT
ATTACH;FMTTYPE=image/jpeg:https://lbcvibe.com/wp-content/uploads/2026/04/f161a41eb9b0e514d52a8d2b3d47003b.jpg
END:VEVENT
BEGIN:VEVENT
DTSTART;TZID=America/Los_Angeles:20260704T110000
DTEND;TZID=America/Los_Angeles:20260704T120000
DTSTAMP:20260425T075643
CREATED:20251226T203833Z
LAST-MODIFIED:20251226T203833Z
UID:10002991-1783162800-1783166400@lbcvibe.com
SUMMARY:BEER YOGA at Trademark Brewing\, Long Beach
DESCRIPTION:Join us for Saturday BREWERY YOGA and namasté for a recovery beer at Trademark Brewing!
URL:https://lbcvibe.com/event/beer-yoga-at-trademark-brewing-long-beach-28/
LOCATION:Trademark Brewing\, 233 E Anaheim St\, Long Beach\, CA\, 90813\, United States
CATEGORIES:EVENT
ATTACH;FMTTYPE=image/jpeg:https://lbcvibe.com/wp-content/uploads/2025/12/1e8a110028129a0d6797d3971b725694.jpg
GEO:33.782936;-118.1903
X-APPLE-STRUCTURED-LOCATION;VALUE=URI;X-ADDRESS=Trademark Brewing 233 E Anaheim St Long Beach CA 90813 United States;X-APPLE-RADIUS=500;X-TITLE=233 E Anaheim St:geo:-118.1903,33.782936
END:VEVENT
BEGIN:VEVENT
DTSTART;TZID=America/Los_Angeles:20260706T190000
DTEND;TZID=America/Los_Angeles:20260706T213000
DTSTAMP:20260425T075643
CREATED:20260423T222136Z
LAST-MODIFIED:20260423T222136Z
UID:10003546-1783364400-1783373400@lbcvibe.com
SUMMARY:Movie Mondays & Specials at Zaferia Beer Lab
DESCRIPTION:Want to shake off the Monday blues? Every Monday\, we’re transforming the Beer Lab into your local pop cinema!
URL:https://lbcvibe.com/event/movie-mondays-specials-at-zaferia-beer-lab-11/
LOCATION:Long Beach Beer Lab (Zaferia)\, 4000 East Anaheim Street\, #Ste 1a\, Long Beach\, CA\, 90804\, United States
CATEGORIES:EVENT
ATTACH;FMTTYPE=image/jpeg:https://lbcvibe.com/wp-content/uploads/2026/04/c7ff94c9f34f66d3bbcbeb87420d706d.jpg
END:VEVENT
BEGIN:VEVENT
DTSTART;TZID=America/Los_Angeles:20260707T190000
DTEND;TZID=America/Los_Angeles:20260707T233000
DTSTAMP:20260425T075643
CREATED:20260423T222220Z
LAST-MODIFIED:20260423T222220Z
UID:10003596-1783450800-1783467000@lbcvibe.com
SUMMARY:Best Karaoke In Long Beach at Roxanne's
DESCRIPTION:Karaoke Night at Roxanne’s! Grab the mic\, hype the room\, and enjoy late-night food\, drinks\, and high-energy vibes in Long Beach.
URL:https://lbcvibe.com/event/best-karaoke-in-long-beach-at-roxannes-11/
LOCATION:Roxanne’s\, 1115 E Wardlow Rd\, Long Beach\, CA\, United States
CATEGORIES:EVENT
ATTACH;FMTTYPE=image/jpeg:https://lbcvibe.com/wp-content/uploads/2026/04/b07d52b2897a891ade02be5e8e007692.jpg
GEO:33.819122;-118.17804
X-APPLE-STRUCTURED-LOCATION;VALUE=URI;X-ADDRESS=Roxanne’s 1115 E Wardlow Rd Long Beach CA United States;X-APPLE-RADIUS=500;X-TITLE=1115 E Wardlow Rd:geo:-118.17804,33.819122
END:VEVENT
END:VCALENDAR