BEGIN:VCALENDAR
VERSION:2.0
PRODID:-//LBC Vibe - ECPv6.15.20//NONSGML v1.0//EN
CALSCALE:GREGORIAN
METHOD:PUBLISH
X-ORIGINAL-URL:https://lbcvibe.com
X-WR-CALDESC:Events for LBC Vibe
REFRESH-INTERVAL;VALUE=DURATION:PT1H
X-Robots-Tag:noindex
X-PUBLISHED-TTL:PT1H
BEGIN:VTIMEZONE
TZID:America/Los_Angeles
BEGIN:DAYLIGHT
TZOFFSETFROM:-0800
TZOFFSETTO:-0700
TZNAME:PDT
DTSTART:20250309T100000
END:DAYLIGHT
BEGIN:STANDARD
TZOFFSETFROM:-0700
TZOFFSETTO:-0800
TZNAME:PST
DTSTART:20251102T090000
END:STANDARD
BEGIN:DAYLIGHT
TZOFFSETFROM:-0800
TZOFFSETTO:-0700
TZNAME:PDT
DTSTART:20260308T100000
END:DAYLIGHT
BEGIN:STANDARD
TZOFFSETFROM:-0700
TZOFFSETTO:-0800
TZNAME:PST
DTSTART:20261101T090000
END:STANDARD
BEGIN:DAYLIGHT
TZOFFSETFROM:-0800
TZOFFSETTO:-0700
TZNAME:PDT
DTSTART:20270314T100000
END:DAYLIGHT
BEGIN:STANDARD
TZOFFSETFROM:-0700
TZOFFSETTO:-0800
TZNAME:PST
DTSTART:20271107T090000
END:STANDARD
END:VTIMEZONE
BEGIN:VEVENT
DTSTART;TZID=America/Los_Angeles:20260725T210000
DTEND;TZID=America/Los_Angeles:20260726T010000
DTSTAMP:20260420T134029
CREATED:20260116T201206Z
LAST-MODIFIED:20260116T201206Z
UID:10003197-1785013200-1785027600@lbcvibe.com
SUMMARY:Lost n Found — Your R&B Night at SALA <3
DESCRIPTION:A soulful R&B night at SALA Coffee & Wine—4th Saturdays. Good vibes\, throwbacks\, modern hits\, and community energy.
URL:https://lbcvibe.com/event/lost-n-found-your-rb-night-at-sala-3-7/
LOCATION:SALA Coffee & Wine Bar\, 3853 Atlantic Avenue\, Long Beach\, CA\, 90807\, United States
CATEGORIES:EVENT
ATTACH;FMTTYPE=image/jpeg:https://lbcvibe.com/wp-content/uploads/2026/01/a1eab9a39e21af647aa93a2a26a5e749.jpg
END:VEVENT
BEGIN:VEVENT
DTSTART;TZID=America/Los_Angeles:20260801T110000
DTEND;TZID=America/Los_Angeles:20260801T120000
DTSTAMP:20260420T134029
CREATED:20251226T203846Z
LAST-MODIFIED:20251226T203846Z
UID:10002995-1785582000-1785585600@lbcvibe.com
SUMMARY:BEER YOGA at Trademark Brewing\, Long Beach
DESCRIPTION:Join us for Saturday BREWERY YOGA and namasté for a recovery beer at Trademark Brewing!
URL:https://lbcvibe.com/event/beer-yoga-at-trademark-brewing-long-beach-32/
LOCATION:Trademark Brewing\, 233 East Anaheim Street\, Long Beach\, CA\, 90813\, United States
CATEGORIES:EVENT
ATTACH;FMTTYPE=image/jpeg:https://lbcvibe.com/wp-content/uploads/2025/12/1e8a110028129a0d6797d3971b725694.jpg
GEO:33.782936;-118.1903
X-APPLE-STRUCTURED-LOCATION;VALUE=URI;X-ADDRESS=Trademark Brewing 233 East Anaheim Street Long Beach CA 90813 United States;X-APPLE-RADIUS=500;X-TITLE=233 East Anaheim Street:geo:-118.1903,33.782936
END:VEVENT
BEGIN:VEVENT
DTSTART;TZID=America/Los_Angeles:20260808T110000
DTEND;TZID=America/Los_Angeles:20260808T120000
DTSTAMP:20260420T134029
CREATED:20251226T203846Z
LAST-MODIFIED:20251226T203846Z
UID:10002996-1786186800-1786190400@lbcvibe.com
SUMMARY:BEER YOGA at Trademark Brewing\, Long Beach
DESCRIPTION:Join us for Saturday BREWERY YOGA and namasté for a recovery beer at Trademark Brewing!
URL:https://lbcvibe.com/event/beer-yoga-at-trademark-brewing-long-beach-33/
LOCATION:Trademark Brewing\, 233 East Anaheim Street\, Long Beach\, CA\, 90813\, United States
CATEGORIES:EVENT
ATTACH;FMTTYPE=image/jpeg:https://lbcvibe.com/wp-content/uploads/2025/12/1e8a110028129a0d6797d3971b725694.jpg
GEO:33.782936;-118.1903
X-APPLE-STRUCTURED-LOCATION;VALUE=URI;X-ADDRESS=Trademark Brewing 233 East Anaheim Street Long Beach CA 90813 United States;X-APPLE-RADIUS=500;X-TITLE=233 East Anaheim Street:geo:-118.1903,33.782936
END:VEVENT
BEGIN:VEVENT
DTSTART;TZID=America/Los_Angeles:20260815T110000
DTEND;TZID=America/Los_Angeles:20260815T120000
DTSTAMP:20260420T134029
CREATED:20251226T203847Z
LAST-MODIFIED:20251226T203847Z
UID:10002997-1786791600-1786795200@lbcvibe.com
SUMMARY:BEER YOGA at Trademark Brewing\, Long Beach
DESCRIPTION:Join us for Saturday BREWERY YOGA and namasté for a recovery beer at Trademark Brewing!
URL:https://lbcvibe.com/event/beer-yoga-at-trademark-brewing-long-beach-34/
LOCATION:Trademark Brewing\, 233 East Anaheim Street\, Long Beach\, CA\, 90813\, United States
CATEGORIES:EVENT
ATTACH;FMTTYPE=image/jpeg:https://lbcvibe.com/wp-content/uploads/2025/12/1e8a110028129a0d6797d3971b725694.jpg
GEO:33.782936;-118.1903
X-APPLE-STRUCTURED-LOCATION;VALUE=URI;X-ADDRESS=Trademark Brewing 233 East Anaheim Street Long Beach CA 90813 United States;X-APPLE-RADIUS=500;X-TITLE=233 East Anaheim Street:geo:-118.1903,33.782936
END:VEVENT
BEGIN:VEVENT
DTSTART;TZID=America/Los_Angeles:20260822T110000
DTEND;TZID=America/Los_Angeles:20260822T120000
DTSTAMP:20260420T134029
CREATED:20251226T203847Z
LAST-MODIFIED:20251226T203847Z
UID:10002998-1787396400-1787400000@lbcvibe.com
SUMMARY:BEER YOGA at Trademark Brewing\, Long Beach
DESCRIPTION:Join us for Saturday BREWERY YOGA and namasté for a recovery beer at Trademark Brewing!
URL:https://lbcvibe.com/event/beer-yoga-at-trademark-brewing-long-beach-35/
LOCATION:Trademark Brewing\, 233 East Anaheim Street\, Long Beach\, CA\, 90813\, United States
CATEGORIES:EVENT
ATTACH;FMTTYPE=image/jpeg:https://lbcvibe.com/wp-content/uploads/2025/12/1e8a110028129a0d6797d3971b725694.jpg
GEO:33.782936;-118.1903
X-APPLE-STRUCTURED-LOCATION;VALUE=URI;X-ADDRESS=Trademark Brewing 233 East Anaheim Street Long Beach CA 90813 United States;X-APPLE-RADIUS=500;X-TITLE=233 East Anaheim Street:geo:-118.1903,33.782936
END:VEVENT
BEGIN:VEVENT
DTSTART;TZID=America/Los_Angeles:20260822T210000
DTEND;TZID=America/Los_Angeles:20260823T010000
DTSTAMP:20260420T134029
CREATED:20260116T201207Z
LAST-MODIFIED:20260116T201207Z
UID:10003198-1787432400-1787446800@lbcvibe.com
SUMMARY:Lost n Found — Your R&B Night at SALA <3
DESCRIPTION:A soulful R&B night at SALA Coffee & Wine—4th Saturdays. Good vibes\, throwbacks\, modern hits\, and community energy.
URL:https://lbcvibe.com/event/lost-n-found-your-rb-night-at-sala-3-8/
LOCATION:SALA Coffee & Wine Bar\, 3853 Atlantic Avenue\, Long Beach\, CA\, 90807\, United States
CATEGORIES:EVENT
ATTACH;FMTTYPE=image/jpeg:https://lbcvibe.com/wp-content/uploads/2026/01/a1eab9a39e21af647aa93a2a26a5e749.jpg
END:VEVENT
BEGIN:VEVENT
DTSTART;TZID=America/Los_Angeles:20260829T110000
DTEND;TZID=America/Los_Angeles:20260829T120000
DTSTAMP:20260420T134029
CREATED:20251226T203847Z
LAST-MODIFIED:20251226T203847Z
UID:10002999-1788001200-1788004800@lbcvibe.com
SUMMARY:BEER YOGA at Trademark Brewing\, Long Beach
DESCRIPTION:Join us for Saturday BREWERY YOGA and namasté for a recovery beer at Trademark Brewing!
URL:https://lbcvibe.com/event/beer-yoga-at-trademark-brewing-long-beach-36/
LOCATION:Trademark Brewing\, 233 East Anaheim Street\, Long Beach\, CA\, 90813\, United States
CATEGORIES:EVENT
ATTACH;FMTTYPE=image/jpeg:https://lbcvibe.com/wp-content/uploads/2025/12/1e8a110028129a0d6797d3971b725694.jpg
GEO:33.782936;-118.1903
X-APPLE-STRUCTURED-LOCATION;VALUE=URI;X-ADDRESS=Trademark Brewing 233 East Anaheim Street Long Beach CA 90813 United States;X-APPLE-RADIUS=500;X-TITLE=233 East Anaheim Street:geo:-118.1903,33.782936
END:VEVENT
BEGIN:VEVENT
DTSTART;TZID=America/Los_Angeles:20260905T110000
DTEND;TZID=America/Los_Angeles:20260905T120000
DTSTAMP:20260420T134029
CREATED:20251226T203847Z
LAST-MODIFIED:20251226T203847Z
UID:10003000-1788606000-1788609600@lbcvibe.com
SUMMARY:BEER YOGA at Trademark Brewing\, Long Beach
DESCRIPTION:Join us for Saturday BREWERY YOGA and namasté for a recovery beer at Trademark Brewing!
URL:https://lbcvibe.com/event/beer-yoga-at-trademark-brewing-long-beach-37/
LOCATION:Trademark Brewing\, 233 East Anaheim Street\, Long Beach\, CA\, 90813\, United States
CATEGORIES:EVENT
ATTACH;FMTTYPE=image/jpeg:https://lbcvibe.com/wp-content/uploads/2025/12/1e8a110028129a0d6797d3971b725694.jpg
GEO:33.782936;-118.1903
X-APPLE-STRUCTURED-LOCATION;VALUE=URI;X-ADDRESS=Trademark Brewing 233 East Anaheim Street Long Beach CA 90813 United States;X-APPLE-RADIUS=500;X-TITLE=233 East Anaheim Street:geo:-118.1903,33.782936
END:VEVENT
BEGIN:VEVENT
DTSTART;TZID=America/Los_Angeles:20260912T110000
DTEND;TZID=America/Los_Angeles:20260912T120000
DTSTAMP:20260420T134029
CREATED:20251226T203847Z
LAST-MODIFIED:20251226T203847Z
UID:10003001-1789210800-1789214400@lbcvibe.com
SUMMARY:BEER YOGA at Trademark Brewing\, Long Beach
DESCRIPTION:Join us for Saturday BREWERY YOGA and namasté for a recovery beer at Trademark Brewing!
URL:https://lbcvibe.com/event/beer-yoga-at-trademark-brewing-long-beach-38/
LOCATION:Trademark Brewing\, 233 East Anaheim Street\, Long Beach\, CA\, 90813\, United States
CATEGORIES:EVENT
ATTACH;FMTTYPE=image/jpeg:https://lbcvibe.com/wp-content/uploads/2025/12/1e8a110028129a0d6797d3971b725694.jpg
GEO:33.782936;-118.1903
X-APPLE-STRUCTURED-LOCATION;VALUE=URI;X-ADDRESS=Trademark Brewing 233 East Anaheim Street Long Beach CA 90813 United States;X-APPLE-RADIUS=500;X-TITLE=233 East Anaheim Street:geo:-118.1903,33.782936
END:VEVENT
BEGIN:VEVENT
DTSTART;TZID=America/Los_Angeles:20260919T110000
DTEND;TZID=America/Los_Angeles:20260919T120000
DTSTAMP:20260420T134029
CREATED:20251226T203847Z
LAST-MODIFIED:20251226T203847Z
UID:10003002-1789815600-1789819200@lbcvibe.com
SUMMARY:BEER YOGA at Trademark Brewing\, Long Beach
DESCRIPTION:Join us for Saturday BREWERY YOGA and namasté for a recovery beer at Trademark Brewing!
URL:https://lbcvibe.com/event/beer-yoga-at-trademark-brewing-long-beach-39/
LOCATION:Trademark Brewing\, 233 East Anaheim Street\, Long Beach\, CA\, 90813\, United States
CATEGORIES:EVENT
ATTACH;FMTTYPE=image/jpeg:https://lbcvibe.com/wp-content/uploads/2025/12/1e8a110028129a0d6797d3971b725694.jpg
GEO:33.782936;-118.1903
X-APPLE-STRUCTURED-LOCATION;VALUE=URI;X-ADDRESS=Trademark Brewing 233 East Anaheim Street Long Beach CA 90813 United States;X-APPLE-RADIUS=500;X-TITLE=233 East Anaheim Street:geo:-118.1903,33.782936
END:VEVENT
BEGIN:VEVENT
DTSTART;TZID=America/Los_Angeles:20260926T110000
DTEND;TZID=America/Los_Angeles:20260926T120000
DTSTAMP:20260420T134029
CREATED:20251226T203847Z
LAST-MODIFIED:20251226T203847Z
UID:10003003-1790420400-1790424000@lbcvibe.com
SUMMARY:BEER YOGA at Trademark Brewing\, Long Beach
DESCRIPTION:Join us for Saturday BREWERY YOGA and namasté for a recovery beer at Trademark Brewing!
URL:https://lbcvibe.com/event/beer-yoga-at-trademark-brewing-long-beach-40/
LOCATION:Trademark Brewing\, 233 East Anaheim Street\, Long Beach\, CA\, 90813\, United States
CATEGORIES:EVENT
ATTACH;FMTTYPE=image/jpeg:https://lbcvibe.com/wp-content/uploads/2025/12/1e8a110028129a0d6797d3971b725694.jpg
GEO:33.782936;-118.1903
X-APPLE-STRUCTURED-LOCATION;VALUE=URI;X-ADDRESS=Trademark Brewing 233 East Anaheim Street Long Beach CA 90813 United States;X-APPLE-RADIUS=500;X-TITLE=233 East Anaheim Street:geo:-118.1903,33.782936
END:VEVENT
BEGIN:VEVENT
DTSTART;TZID=America/Los_Angeles:20260926T210000
DTEND;TZID=America/Los_Angeles:20260927T010000
DTSTAMP:20260420T134029
CREATED:20260116T201207Z
LAST-MODIFIED:20260116T201207Z
UID:10003199-1790456400-1790470800@lbcvibe.com
SUMMARY:Lost n Found — Your R&B Night at SALA <3
DESCRIPTION:A soulful R&B night at SALA Coffee & Wine—4th Saturdays. Good vibes\, throwbacks\, modern hits\, and community energy.
URL:https://lbcvibe.com/event/lost-n-found-your-rb-night-at-sala-3-9/
LOCATION:SALA Coffee & Wine Bar\, 3853 Atlantic Avenue\, Long Beach\, CA\, 90807\, United States
CATEGORIES:EVENT
ATTACH;FMTTYPE=image/jpeg:https://lbcvibe.com/wp-content/uploads/2026/01/a1eab9a39e21af647aa93a2a26a5e749.jpg
END:VEVENT
BEGIN:VEVENT
DTSTART;TZID=America/Los_Angeles:20261003T110000
DTEND;TZID=America/Los_Angeles:20261003T120000
DTSTAMP:20260420T134029
CREATED:20251226T203848Z
LAST-MODIFIED:20251226T203848Z
UID:10003004-1791025200-1791028800@lbcvibe.com
SUMMARY:BEER YOGA at Trademark Brewing\, Long Beach
DESCRIPTION:Join us for Saturday BREWERY YOGA and namasté for a recovery beer at Trademark Brewing!
URL:https://lbcvibe.com/event/beer-yoga-at-trademark-brewing-long-beach-41/
LOCATION:Trademark Brewing\, 233 East Anaheim Street\, Long Beach\, CA\, 90813\, United States
CATEGORIES:EVENT
ATTACH;FMTTYPE=image/jpeg:https://lbcvibe.com/wp-content/uploads/2025/12/1e8a110028129a0d6797d3971b725694.jpg
GEO:33.782936;-118.1903
X-APPLE-STRUCTURED-LOCATION;VALUE=URI;X-ADDRESS=Trademark Brewing 233 East Anaheim Street Long Beach CA 90813 United States;X-APPLE-RADIUS=500;X-TITLE=233 East Anaheim Street:geo:-118.1903,33.782936
END:VEVENT
BEGIN:VEVENT
DTSTART;TZID=America/Los_Angeles:20261010T110000
DTEND;TZID=America/Los_Angeles:20261010T120000
DTSTAMP:20260420T134029
CREATED:20251226T203903Z
LAST-MODIFIED:20251226T203903Z
UID:10003005-1791630000-1791633600@lbcvibe.com
SUMMARY:BEER YOGA at Trademark Brewing\, Long Beach
DESCRIPTION:Join us for Saturday BREWERY YOGA and namasté for a recovery beer at Trademark Brewing!
URL:https://lbcvibe.com/event/beer-yoga-at-trademark-brewing-long-beach-42/
LOCATION:Trademark Brewing\, 233 East Anaheim Street\, Long Beach\, CA\, 90813\, United States
CATEGORIES:EVENT
ATTACH;FMTTYPE=image/jpeg:https://lbcvibe.com/wp-content/uploads/2025/12/1e8a110028129a0d6797d3971b725694.jpg
GEO:33.782936;-118.1903
X-APPLE-STRUCTURED-LOCATION;VALUE=URI;X-ADDRESS=Trademark Brewing 233 East Anaheim Street Long Beach CA 90813 United States;X-APPLE-RADIUS=500;X-TITLE=233 East Anaheim Street:geo:-118.1903,33.782936
END:VEVENT
BEGIN:VEVENT
DTSTART;TZID=America/Los_Angeles:20261017T110000
DTEND;TZID=America/Los_Angeles:20261017T120000
DTSTAMP:20260420T134029
CREATED:20251226T203903Z
LAST-MODIFIED:20251226T203903Z
UID:10003006-1792234800-1792238400@lbcvibe.com
SUMMARY:BEER YOGA at Trademark Brewing\, Long Beach
DESCRIPTION:Join us for Saturday BREWERY YOGA and namasté for a recovery beer at Trademark Brewing!
URL:https://lbcvibe.com/event/beer-yoga-at-trademark-brewing-long-beach-43/
LOCATION:Trademark Brewing\, 233 East Anaheim Street\, Long Beach\, CA\, 90813\, United States
CATEGORIES:EVENT
ATTACH;FMTTYPE=image/jpeg:https://lbcvibe.com/wp-content/uploads/2025/12/1e8a110028129a0d6797d3971b725694.jpg
GEO:33.782936;-118.1903
X-APPLE-STRUCTURED-LOCATION;VALUE=URI;X-ADDRESS=Trademark Brewing 233 East Anaheim Street Long Beach CA 90813 United States;X-APPLE-RADIUS=500;X-TITLE=233 East Anaheim Street:geo:-118.1903,33.782936
END:VEVENT
BEGIN:VEVENT
DTSTART;TZID=America/Los_Angeles:20261024T110000
DTEND;TZID=America/Los_Angeles:20261024T120000
DTSTAMP:20260420T134029
CREATED:20251226T203903Z
LAST-MODIFIED:20251226T203903Z
UID:10003007-1792839600-1792843200@lbcvibe.com
SUMMARY:BEER YOGA at Trademark Brewing\, Long Beach
DESCRIPTION:Join us for Saturday BREWERY YOGA and namasté for a recovery beer at Trademark Brewing!
URL:https://lbcvibe.com/event/beer-yoga-at-trademark-brewing-long-beach-44/
LOCATION:Trademark Brewing\, 233 East Anaheim Street\, Long Beach\, CA\, 90813\, United States
CATEGORIES:EVENT
ATTACH;FMTTYPE=image/jpeg:https://lbcvibe.com/wp-content/uploads/2025/12/1e8a110028129a0d6797d3971b725694.jpg
GEO:33.782936;-118.1903
X-APPLE-STRUCTURED-LOCATION;VALUE=URI;X-ADDRESS=Trademark Brewing 233 East Anaheim Street Long Beach CA 90813 United States;X-APPLE-RADIUS=500;X-TITLE=233 East Anaheim Street:geo:-118.1903,33.782936
END:VEVENT
BEGIN:VEVENT
DTSTART;TZID=America/Los_Angeles:20261024T210000
DTEND;TZID=America/Los_Angeles:20261025T010000
DTSTAMP:20260420T134029
CREATED:20260116T201207Z
LAST-MODIFIED:20260116T201207Z
UID:10003200-1792875600-1792890000@lbcvibe.com
SUMMARY:Lost n Found — Your R&B Night at SALA <3
DESCRIPTION:A soulful R&B night at SALA Coffee & Wine—4th Saturdays. Good vibes\, throwbacks\, modern hits\, and community energy.
URL:https://lbcvibe.com/event/lost-n-found-your-rb-night-at-sala-3-10/
LOCATION:SALA Coffee & Wine Bar\, 3853 Atlantic Avenue\, Long Beach\, CA\, 90807\, United States
CATEGORIES:EVENT
ATTACH;FMTTYPE=image/jpeg:https://lbcvibe.com/wp-content/uploads/2026/01/a1eab9a39e21af647aa93a2a26a5e749.jpg
END:VEVENT
BEGIN:VEVENT
DTSTART;TZID=America/Los_Angeles:20261031T110000
DTEND;TZID=America/Los_Angeles:20261031T120000
DTSTAMP:20260420T134029
CREATED:20251226T203904Z
LAST-MODIFIED:20251226T203904Z
UID:10003008-1793444400-1793448000@lbcvibe.com
SUMMARY:BEER YOGA at Trademark Brewing\, Long Beach
DESCRIPTION:Join us for Saturday BREWERY YOGA and namasté for a recovery beer at Trademark Brewing!
URL:https://lbcvibe.com/event/beer-yoga-at-trademark-brewing-long-beach-45/
LOCATION:Trademark Brewing\, 233 East Anaheim Street\, Long Beach\, CA\, 90813\, United States
CATEGORIES:EVENT
ATTACH;FMTTYPE=image/jpeg:https://lbcvibe.com/wp-content/uploads/2025/12/1e8a110028129a0d6797d3971b725694.jpg
GEO:33.782936;-118.1903
X-APPLE-STRUCTURED-LOCATION;VALUE=URI;X-ADDRESS=Trademark Brewing 233 East Anaheim Street Long Beach CA 90813 United States;X-APPLE-RADIUS=500;X-TITLE=233 East Anaheim Street:geo:-118.1903,33.782936
END:VEVENT
BEGIN:VEVENT
DTSTART;TZID=America/Los_Angeles:20261107T110000
DTEND;TZID=America/Los_Angeles:20261107T120000
DTSTAMP:20260420T134029
CREATED:20251226T203904Z
LAST-MODIFIED:20251226T203904Z
UID:10003009-1794049200-1794052800@lbcvibe.com
SUMMARY:BEER YOGA at Trademark Brewing\, Long Beach
DESCRIPTION:Join us for Saturday BREWERY YOGA and namasté for a recovery beer at Trademark Brewing!
URL:https://lbcvibe.com/event/beer-yoga-at-trademark-brewing-long-beach-46/
LOCATION:Trademark Brewing\, 233 East Anaheim Street\, Long Beach\, CA\, 90813\, United States
CATEGORIES:EVENT
ATTACH;FMTTYPE=image/jpeg:https://lbcvibe.com/wp-content/uploads/2025/12/1e8a110028129a0d6797d3971b725694.jpg
GEO:33.782936;-118.1903
X-APPLE-STRUCTURED-LOCATION;VALUE=URI;X-ADDRESS=Trademark Brewing 233 East Anaheim Street Long Beach CA 90813 United States;X-APPLE-RADIUS=500;X-TITLE=233 East Anaheim Street:geo:-118.1903,33.782936
END:VEVENT
BEGIN:VEVENT
DTSTART;TZID=America/Los_Angeles:20261114T110000
DTEND;TZID=America/Los_Angeles:20261114T120000
DTSTAMP:20260420T134029
CREATED:20251226T203904Z
LAST-MODIFIED:20251226T203904Z
UID:10003010-1794654000-1794657600@lbcvibe.com
SUMMARY:BEER YOGA at Trademark Brewing\, Long Beach
DESCRIPTION:Join us for Saturday BREWERY YOGA and namasté for a recovery beer at Trademark Brewing!
URL:https://lbcvibe.com/event/beer-yoga-at-trademark-brewing-long-beach-47/
LOCATION:Trademark Brewing\, 233 East Anaheim Street\, Long Beach\, CA\, 90813\, United States
CATEGORIES:EVENT
ATTACH;FMTTYPE=image/jpeg:https://lbcvibe.com/wp-content/uploads/2025/12/1e8a110028129a0d6797d3971b725694.jpg
GEO:33.782936;-118.1903
X-APPLE-STRUCTURED-LOCATION;VALUE=URI;X-ADDRESS=Trademark Brewing 233 East Anaheim Street Long Beach CA 90813 United States;X-APPLE-RADIUS=500;X-TITLE=233 East Anaheim Street:geo:-118.1903,33.782936
END:VEVENT
BEGIN:VEVENT
DTSTART;TZID=America/Los_Angeles:20261121T110000
DTEND;TZID=America/Los_Angeles:20261121T120000
DTSTAMP:20260420T134029
CREATED:20251226T203904Z
LAST-MODIFIED:20251226T203904Z
UID:10003011-1795258800-1795262400@lbcvibe.com
SUMMARY:BEER YOGA at Trademark Brewing\, Long Beach
DESCRIPTION:Join us for Saturday BREWERY YOGA and namasté for a recovery beer at Trademark Brewing!
URL:https://lbcvibe.com/event/beer-yoga-at-trademark-brewing-long-beach-48/
LOCATION:Trademark Brewing\, 233 East Anaheim Street\, Long Beach\, CA\, 90813\, United States
CATEGORIES:EVENT
ATTACH;FMTTYPE=image/jpeg:https://lbcvibe.com/wp-content/uploads/2025/12/1e8a110028129a0d6797d3971b725694.jpg
GEO:33.782936;-118.1903
X-APPLE-STRUCTURED-LOCATION;VALUE=URI;X-ADDRESS=Trademark Brewing 233 East Anaheim Street Long Beach CA 90813 United States;X-APPLE-RADIUS=500;X-TITLE=233 East Anaheim Street:geo:-118.1903,33.782936
END:VEVENT
BEGIN:VEVENT
DTSTART;TZID=America/Los_Angeles:20261128T110000
DTEND;TZID=America/Los_Angeles:20261128T120000
DTSTAMP:20260420T134029
CREATED:20251226T203904Z
LAST-MODIFIED:20251226T203904Z
UID:10003012-1795863600-1795867200@lbcvibe.com
SUMMARY:BEER YOGA at Trademark Brewing\, Long Beach
DESCRIPTION:Join us for Saturday BREWERY YOGA and namasté for a recovery beer at Trademark Brewing!
URL:https://lbcvibe.com/event/beer-yoga-at-trademark-brewing-long-beach-49/
LOCATION:Trademark Brewing\, 233 East Anaheim Street\, Long Beach\, CA\, 90813\, United States
CATEGORIES:EVENT
ATTACH;FMTTYPE=image/jpeg:https://lbcvibe.com/wp-content/uploads/2025/12/1e8a110028129a0d6797d3971b725694.jpg
GEO:33.782936;-118.1903
X-APPLE-STRUCTURED-LOCATION;VALUE=URI;X-ADDRESS=Trademark Brewing 233 East Anaheim Street Long Beach CA 90813 United States;X-APPLE-RADIUS=500;X-TITLE=233 East Anaheim Street:geo:-118.1903,33.782936
END:VEVENT
BEGIN:VEVENT
DTSTART;TZID=America/Los_Angeles:20261128T210000
DTEND;TZID=America/Los_Angeles:20261129T010000
DTSTAMP:20260420T134029
CREATED:20260116T201220Z
LAST-MODIFIED:20260116T201220Z
UID:10003201-1795899600-1795914000@lbcvibe.com
SUMMARY:Lost n Found — Your R&B Night at SALA <3
DESCRIPTION:A soulful R&B night at SALA Coffee & Wine—4th Saturdays. Good vibes\, throwbacks\, modern hits\, and community energy.
URL:https://lbcvibe.com/event/lost-n-found-your-rb-night-at-sala-3-11/
LOCATION:SALA Coffee & Wine Bar\, 3853 Atlantic Avenue\, Long Beach\, CA\, 90807\, United States
CATEGORIES:EVENT
ATTACH;FMTTYPE=image/jpeg:https://lbcvibe.com/wp-content/uploads/2026/01/a1eab9a39e21af647aa93a2a26a5e749.jpg
END:VEVENT
BEGIN:VEVENT
DTSTART;TZID=America/Los_Angeles:20261205T110000
DTEND;TZID=America/Los_Angeles:20261205T120000
DTSTAMP:20260420T134029
CREATED:20251226T203904Z
LAST-MODIFIED:20251226T203904Z
UID:10003013-1796468400-1796472000@lbcvibe.com
SUMMARY:BEER YOGA at Trademark Brewing\, Long Beach
DESCRIPTION:Join us for Saturday BREWERY YOGA and namasté for a recovery beer at Trademark Brewing!
URL:https://lbcvibe.com/event/beer-yoga-at-trademark-brewing-long-beach-50/
LOCATION:Trademark Brewing\, 233 East Anaheim Street\, Long Beach\, CA\, 90813\, United States
CATEGORIES:EVENT
ATTACH;FMTTYPE=image/jpeg:https://lbcvibe.com/wp-content/uploads/2025/12/1e8a110028129a0d6797d3971b725694.jpg
GEO:33.782936;-118.1903
X-APPLE-STRUCTURED-LOCATION;VALUE=URI;X-ADDRESS=Trademark Brewing 233 East Anaheim Street Long Beach CA 90813 United States;X-APPLE-RADIUS=500;X-TITLE=233 East Anaheim Street:geo:-118.1903,33.782936
END:VEVENT
BEGIN:VEVENT
DTSTART;TZID=America/Los_Angeles:20261212T110000
DTEND;TZID=America/Los_Angeles:20261212T120000
DTSTAMP:20260420T134029
CREATED:20251226T203905Z
LAST-MODIFIED:20251226T203905Z
UID:10003014-1797073200-1797076800@lbcvibe.com
SUMMARY:BEER YOGA at Trademark Brewing\, Long Beach
DESCRIPTION:Join us for Saturday BREWERY YOGA and namasté for a recovery beer at Trademark Brewing!
URL:https://lbcvibe.com/event/beer-yoga-at-trademark-brewing-long-beach-51/
LOCATION:Trademark Brewing\, 233 East Anaheim Street\, Long Beach\, CA\, 90813\, United States
CATEGORIES:EVENT
ATTACH;FMTTYPE=image/jpeg:https://lbcvibe.com/wp-content/uploads/2025/12/1e8a110028129a0d6797d3971b725694.jpg
GEO:33.782936;-118.1903
X-APPLE-STRUCTURED-LOCATION;VALUE=URI;X-ADDRESS=Trademark Brewing 233 East Anaheim Street Long Beach CA 90813 United States;X-APPLE-RADIUS=500;X-TITLE=233 East Anaheim Street:geo:-118.1903,33.782936
END:VEVENT
END:VCALENDAR