BEGIN:VCALENDAR
VERSION:2.0
PRODID:-//LBC Vibe - ECPv6.15.20//NONSGML v1.0//EN
CALSCALE:GREGORIAN
METHOD:PUBLISH
X-WR-CALNAME:LBC Vibe
X-ORIGINAL-URL:https://lbcvibe.com
X-WR-CALDESC:Events for LBC Vibe
REFRESH-INTERVAL;VALUE=DURATION:PT1H
X-Robots-Tag:noindex
X-PUBLISHED-TTL:PT1H
BEGIN:VTIMEZONE
TZID:America/Los_Angeles
BEGIN:DAYLIGHT
TZOFFSETFROM:-0800
TZOFFSETTO:-0700
TZNAME:PDT
DTSTART:20250309T100000
END:DAYLIGHT
BEGIN:STANDARD
TZOFFSETFROM:-0700
TZOFFSETTO:-0800
TZNAME:PST
DTSTART:20251102T090000
END:STANDARD
BEGIN:DAYLIGHT
TZOFFSETFROM:-0800
TZOFFSETTO:-0700
TZNAME:PDT
DTSTART:20260308T100000
END:DAYLIGHT
BEGIN:STANDARD
TZOFFSETFROM:-0700
TZOFFSETTO:-0800
TZNAME:PST
DTSTART:20261101T090000
END:STANDARD
BEGIN:DAYLIGHT
TZOFFSETFROM:-0800
TZOFFSETTO:-0700
TZNAME:PDT
DTSTART:20270314T100000
END:DAYLIGHT
BEGIN:STANDARD
TZOFFSETFROM:-0700
TZOFFSETTO:-0800
TZNAME:PST
DTSTART:20271107T090000
END:STANDARD
END:VTIMEZONE
BEGIN:VEVENT
DTSTART;TZID=America/Los_Angeles:20260909T190000
DTEND;TZID=America/Los_Angeles:20260909T210000
DTSTAMP:20260425T105928
CREATED:20260423T222026Z
LAST-MODIFIED:20260423T222026Z
UID:10003505-1788980400-1788987600@lbcvibe.com
SUMMARY:Trivia Nights at Wrigley Beer Lab
DESCRIPTION:Fresh batch of brain-bending trivia for all you knowledge fermenters out there!
URL:https://lbcvibe.com/event/trivia-nights-at-wrigley-beer-lab-21/
LOCATION:Long Beach Beer Lab (Wrigley)\, 518 West Willow Street\, Long Beach\, CA\, 90806\, United States
CATEGORIES:EVENT
ATTACH;FMTTYPE=image/jpeg:https://lbcvibe.com/wp-content/uploads/2026/04/daf31faf101efcdba1c254bfba7203df.jpg
END:VEVENT
BEGIN:VEVENT
DTSTART;TZID=America/Los_Angeles:20260912T110000
DTEND;TZID=America/Los_Angeles:20260912T120000
DTSTAMP:20260425T105928
CREATED:20251226T203847Z
LAST-MODIFIED:20251226T203847Z
UID:10003001-1789210800-1789214400@lbcvibe.com
SUMMARY:BEER YOGA at Trademark Brewing\, Long Beach
DESCRIPTION:Join us for Saturday BREWERY YOGA and namasté for a recovery beer at Trademark Brewing!
URL:https://lbcvibe.com/event/beer-yoga-at-trademark-brewing-long-beach-38/
LOCATION:Trademark Brewing\, 233 E Anaheim St\, Long Beach\, CA\, 90813\, United States
CATEGORIES:EVENT
ATTACH;FMTTYPE=image/jpeg:https://lbcvibe.com/wp-content/uploads/2025/12/1e8a110028129a0d6797d3971b725694.jpg
GEO:33.782936;-118.1903
X-APPLE-STRUCTURED-LOCATION;VALUE=URI;X-ADDRESS=Trademark Brewing 233 E Anaheim St Long Beach CA 90813 United States;X-APPLE-RADIUS=500;X-TITLE=233 E Anaheim St:geo:-118.1903,33.782936
END:VEVENT
BEGIN:VEVENT
DTSTART;TZID=America/Los_Angeles:20260912T220000
DTEND;TZID=America/Los_Angeles:20260913T020000
DTSTAMP:20260425T105928
CREATED:20260423T215408Z
LAST-MODIFIED:20260423T215408Z
UID:10003471-1789250400-1789264800@lbcvibe.com
SUMMARY:a Loft Party Called RSVP - in Long Beach
DESCRIPTION:Curated Neighborhood Hip Hop\, Dance R&B Party by R+D – Featuring our community and  friends that create the best vibes ever. <3
URL:https://lbcvibe.com/event/a-loft-party-called-rsvp-in-long-beach-5/
LOCATION:Shannon’s At The Top\, 105 West Broadway\, Long Beach\, CA\, 90802\, United States
CATEGORIES:EVENT
ATTACH;FMTTYPE=image/jpeg:https://lbcvibe.com/wp-content/uploads/2026/04/d0f3ee5f60f1ce0914ea3d4dfd9f684c.jpg
END:VEVENT
BEGIN:VEVENT
DTSTART;TZID=America/Los_Angeles:20260914T190000
DTEND;TZID=America/Los_Angeles:20260914T213000
DTSTAMP:20260425T105928
CREATED:20260423T222148Z
LAST-MODIFIED:20260423T222148Z
UID:10003556-1789412400-1789421400@lbcvibe.com
SUMMARY:Movie Mondays & Specials at Zaferia Beer Lab
DESCRIPTION:Want to shake off the Monday blues? Every Monday\, we’re transforming the Beer Lab into your local pop cinema!
URL:https://lbcvibe.com/event/movie-mondays-specials-at-zaferia-beer-lab-21/
LOCATION:Long Beach Beer Lab (Zaferia)\, 4000 East Anaheim Street\, #Ste 1a\, Long Beach\, CA\, 90804\, United States
CATEGORIES:EVENT
ATTACH;FMTTYPE=image/jpeg:https://lbcvibe.com/wp-content/uploads/2026/04/c7ff94c9f34f66d3bbcbeb87420d706d.jpg
END:VEVENT
BEGIN:VEVENT
DTSTART;TZID=America/Los_Angeles:20260915T190000
DTEND;TZID=America/Los_Angeles:20260915T233000
DTSTAMP:20260425T105928
CREATED:20260423T222234Z
LAST-MODIFIED:20260423T222234Z
UID:10003608-1789498800-1789515000@lbcvibe.com
SUMMARY:Best Karaoke In Long Beach at Roxanne's
DESCRIPTION:Karaoke Night at Roxanne’s! Grab the mic\, hype the room\, and enjoy late-night food\, drinks\, and high-energy vibes in Long Beach.
URL:https://lbcvibe.com/event/best-karaoke-in-long-beach-at-roxannes-21/
LOCATION:Roxanne’s\, 1115 E Wardlow Rd\, Long Beach\, CA\, United States
CATEGORIES:EVENT
ATTACH;FMTTYPE=image/jpeg:https://lbcvibe.com/wp-content/uploads/2026/04/b07d52b2897a891ade02be5e8e007692.jpg
GEO:33.819122;-118.17804
X-APPLE-STRUCTURED-LOCATION;VALUE=URI;X-ADDRESS=Roxanne’s 1115 E Wardlow Rd Long Beach CA United States;X-APPLE-RADIUS=500;X-TITLE=1115 E Wardlow Rd:geo:-118.17804,33.819122
END:VEVENT
BEGIN:VEVENT
DTSTART;TZID=America/Los_Angeles:20260916T190000
DTEND;TZID=America/Los_Angeles:20260916T210000
DTSTAMP:20260425T105928
CREATED:20260423T222039Z
LAST-MODIFIED:20260423T222039Z
UID:10003506-1789585200-1789592400@lbcvibe.com
SUMMARY:Trivia Nights at Wrigley Beer Lab
DESCRIPTION:Fresh batch of brain-bending trivia for all you knowledge fermenters out there!
URL:https://lbcvibe.com/event/trivia-nights-at-wrigley-beer-lab-22/
LOCATION:Long Beach Beer Lab (Wrigley)\, 518 West Willow Street\, Long Beach\, CA\, 90806\, United States
CATEGORIES:EVENT
ATTACH;FMTTYPE=image/jpeg:https://lbcvibe.com/wp-content/uploads/2026/04/daf31faf101efcdba1c254bfba7203df.jpg
END:VEVENT
BEGIN:VEVENT
DTSTART;TZID=America/Los_Angeles:20260918T210000
DTEND;TZID=America/Los_Angeles:20260919T010000
DTSTAMP:20260425T105928
CREATED:20260423T215423Z
LAST-MODIFIED:20260423T215423Z
UID:10003480-1789765200-1789779600@lbcvibe.com
SUMMARY:SALA After Dark - 21+
DESCRIPTION:SALA After Dark: Hip Hop\, R&B\, throwbacks & deep cuts in an intimate lounge built for music lovers.
URL:https://lbcvibe.com/event/sala-after-dark-21-5/
LOCATION:SALA Coffee & Wine Bar\, 3853 Atlantic Avenue\, Long Beach\, CA\, 90807\, United States
CATEGORIES:EVENT
ATTACH;FMTTYPE=image/jpeg:https://lbcvibe.com/wp-content/uploads/2026/04/ade8cd779a4a978b40343f5cf1494548.jpg
END:VEVENT
BEGIN:VEVENT
DTSTART;TZID=America/Los_Angeles:20260919T110000
DTEND;TZID=America/Los_Angeles:20260919T120000
DTSTAMP:20260425T105928
CREATED:20251226T203847Z
LAST-MODIFIED:20251226T203847Z
UID:10003002-1789815600-1789819200@lbcvibe.com
SUMMARY:BEER YOGA at Trademark Brewing\, Long Beach
DESCRIPTION:Join us for Saturday BREWERY YOGA and namasté for a recovery beer at Trademark Brewing!
URL:https://lbcvibe.com/event/beer-yoga-at-trademark-brewing-long-beach-39/
LOCATION:Trademark Brewing\, 233 E Anaheim St\, Long Beach\, CA\, 90813\, United States
CATEGORIES:EVENT
ATTACH;FMTTYPE=image/jpeg:https://lbcvibe.com/wp-content/uploads/2025/12/1e8a110028129a0d6797d3971b725694.jpg
GEO:33.782936;-118.1903
X-APPLE-STRUCTURED-LOCATION;VALUE=URI;X-ADDRESS=Trademark Brewing 233 E Anaheim St Long Beach CA 90813 United States;X-APPLE-RADIUS=500;X-TITLE=233 E Anaheim St:geo:-118.1903,33.782936
END:VEVENT
BEGIN:VEVENT
DTSTART;TZID=America/Los_Angeles:20260919T140000
DTEND;TZID=America/Los_Angeles:20260919T235900
DTSTAMP:20260425T105928
CREATED:20260423T222350Z
LAST-MODIFIED:20260423T222350Z
UID:10003664-1789826400-1789862340@lbcvibe.com
SUMMARY:International Talk Like A Pirate Day
DESCRIPTION:Ahoy matey! Join us for International Talk Like A Pirate Day and let’s get swashbucklin’ in person!\n\n\n \n🏴‍☠️ International Talk Like a Pirate Day at Roxanne’s \n \n \nA High-Seas Celebration of Rum\, Mischief & Mayhem \n \nAhoy\, Long Beach! Set sail for a night of pirate mischief as Roxanne’s transforms into a full-blown seaside tavern for International Talk Like a Pirate Day. \n \nThis isn’t just a party — it’s an interactive adventure packed with live entertainment\, roaming characters\, and surprises around every corner. \n \n⚓ What’s Waiting on Deck \n \n\n🧜‍♀️ Mermaid Meet & Greets — Snap photos with enchanting sea sirens straight from the deep\n💃 Live Belly Dancers bringing hypnotic\, high-energy performances\n🍭 Popsicles & Sweet Treats to keep the crew cool\n🎈 Balloon Artists crafting treasures for pirates of all ages\n🎨 Face Painting Station — Scars\, skulls\, sea creatures & more\n🎨 Custom Color Print Keepsakes to take home your pirate memories\n\n \n \n🎶 Entertainment Across the Ship \n \n\n🎧 Live DJ spinning high-energy party vibes\n🎸 Live Band bringing the tavern to life\n🗺️ Pirate Scavenger Hunt — Search the bar for hidden loot and secret surprises\n\n \n \nExpect costumed performers\, interactive moments\, and a room full of pirates\, mermaids\, and scallywags ready to party like they just found buried treasure. \n \n🍹 Full bar available all night \n📸 Costumes highly encouraged — the bolder\, the better \n \nWhether you come dressed as a captain\, a deckhand\, or a legendary sea creature\, this is your chance to escape land life and join the crew for one unforgettable night. \n \nGrab your tickets before they disappear into the depths… \n \n🏴‍☠️ Talk like a pirate. Drink like a pirate. Party like a pirate.
URL:https://lbcvibe.com/event/international-talk-like-a-pirate-day/
LOCATION:Roxanne’s\, 1115 E Wardlow Rd\, Long Beach\, CA\, United States
CATEGORIES:EVENT
ATTACH;FMTTYPE=image/jpeg:https://lbcvibe.com/wp-content/uploads/2026/04/0b9a828d19bd87dc2db79f5af0cc3793.jpg
GEO:33.819122;-118.17804
X-APPLE-STRUCTURED-LOCATION;VALUE=URI;X-ADDRESS=Roxanne’s 1115 E Wardlow Rd Long Beach CA United States;X-APPLE-RADIUS=500;X-TITLE=1115 E Wardlow Rd:geo:-118.17804,33.819122
END:VEVENT
BEGIN:VEVENT
DTSTART;TZID=America/Los_Angeles:20260921T190000
DTEND;TZID=America/Los_Angeles:20260921T213000
DTSTAMP:20260425T105928
CREATED:20260423T222148Z
LAST-MODIFIED:20260423T222148Z
UID:10003557-1790017200-1790026200@lbcvibe.com
SUMMARY:Movie Mondays & Specials at Zaferia Beer Lab
DESCRIPTION:Want to shake off the Monday blues? Every Monday\, we’re transforming the Beer Lab into your local pop cinema!
URL:https://lbcvibe.com/event/movie-mondays-specials-at-zaferia-beer-lab-22/
LOCATION:Long Beach Beer Lab (Zaferia)\, 4000 East Anaheim Street\, #Ste 1a\, Long Beach\, CA\, 90804\, United States
CATEGORIES:EVENT
ATTACH;FMTTYPE=image/jpeg:https://lbcvibe.com/wp-content/uploads/2026/04/c7ff94c9f34f66d3bbcbeb87420d706d.jpg
END:VEVENT
BEGIN:VEVENT
DTSTART;TZID=America/Los_Angeles:20260922T190000
DTEND;TZID=America/Los_Angeles:20260922T233000
DTSTAMP:20260425T105928
CREATED:20260423T222234Z
LAST-MODIFIED:20260423T222234Z
UID:10003609-1790103600-1790119800@lbcvibe.com
SUMMARY:Best Karaoke In Long Beach at Roxanne's
DESCRIPTION:Karaoke Night at Roxanne’s! Grab the mic\, hype the room\, and enjoy late-night food\, drinks\, and high-energy vibes in Long Beach.
URL:https://lbcvibe.com/event/best-karaoke-in-long-beach-at-roxannes-22/
LOCATION:Roxanne’s\, 1115 E Wardlow Rd\, Long Beach\, CA\, United States
CATEGORIES:EVENT
ATTACH;FMTTYPE=image/jpeg:https://lbcvibe.com/wp-content/uploads/2026/04/b07d52b2897a891ade02be5e8e007692.jpg
GEO:33.819122;-118.17804
X-APPLE-STRUCTURED-LOCATION;VALUE=URI;X-ADDRESS=Roxanne’s 1115 E Wardlow Rd Long Beach CA United States;X-APPLE-RADIUS=500;X-TITLE=1115 E Wardlow Rd:geo:-118.17804,33.819122
END:VEVENT
BEGIN:VEVENT
DTSTART;TZID=America/Los_Angeles:20260923T190000
DTEND;TZID=America/Los_Angeles:20260923T210000
DTSTAMP:20260425T105928
CREATED:20260423T222039Z
LAST-MODIFIED:20260423T222039Z
UID:10003507-1790190000-1790197200@lbcvibe.com
SUMMARY:Trivia Nights at Wrigley Beer Lab
DESCRIPTION:Fresh batch of brain-bending trivia for all you knowledge fermenters out there!
URL:https://lbcvibe.com/event/trivia-nights-at-wrigley-beer-lab-23/
LOCATION:Long Beach Beer Lab (Wrigley)\, 518 West Willow Street\, Long Beach\, CA\, 90806\, United States
CATEGORIES:EVENT
ATTACH;FMTTYPE=image/jpeg:https://lbcvibe.com/wp-content/uploads/2026/04/daf31faf101efcdba1c254bfba7203df.jpg
END:VEVENT
BEGIN:VEVENT
DTSTART;TZID=America/Los_Angeles:20260926T110000
DTEND;TZID=America/Los_Angeles:20260926T120000
DTSTAMP:20260425T105928
CREATED:20251226T203847Z
LAST-MODIFIED:20251226T203847Z
UID:10003003-1790420400-1790424000@lbcvibe.com
SUMMARY:BEER YOGA at Trademark Brewing\, Long Beach
DESCRIPTION:Join us for Saturday BREWERY YOGA and namasté for a recovery beer at Trademark Brewing!
URL:https://lbcvibe.com/event/beer-yoga-at-trademark-brewing-long-beach-40/
LOCATION:Trademark Brewing\, 233 E Anaheim St\, Long Beach\, CA\, 90813\, United States
CATEGORIES:EVENT
ATTACH;FMTTYPE=image/jpeg:https://lbcvibe.com/wp-content/uploads/2025/12/1e8a110028129a0d6797d3971b725694.jpg
GEO:33.782936;-118.1903
X-APPLE-STRUCTURED-LOCATION;VALUE=URI;X-ADDRESS=Trademark Brewing 233 E Anaheim St Long Beach CA 90813 United States;X-APPLE-RADIUS=500;X-TITLE=233 E Anaheim St:geo:-118.1903,33.782936
END:VEVENT
BEGIN:VEVENT
DTSTART;TZID=America/Los_Angeles:20260926T210000
DTEND;TZID=America/Los_Angeles:20260927T020000
DTSTAMP:20260425T105928
CREATED:20260116T201207Z
LAST-MODIFIED:20260423T215421Z
UID:10003199-1790456400-1790474400@lbcvibe.com
SUMMARY:Lost n Found — Your R&B Night at Que Sera <3
DESCRIPTION:A soulful R&B night at Que Sera in Long Beach — every 4th Saturday. Good vibes\, throwbacks\, modern hits\, and real community energy.
URL:https://lbcvibe.com/event/lost-n-found-your-rb-night-at-sala-3-9/
LOCATION:Que Sera\, 1923 East 7th Street\, Long Beach\, CA\, 90813\, United States
CATEGORIES:EVENT
ATTACH;FMTTYPE=image/jpeg:https://lbcvibe.com/wp-content/uploads/2026/01/49223d6221aae148a7703a8b5ec2e9f1.jpg
END:VEVENT
BEGIN:VEVENT
DTSTART;TZID=America/Los_Angeles:20260928T190000
DTEND;TZID=America/Los_Angeles:20260928T213000
DTSTAMP:20260425T105928
CREATED:20260423T222148Z
LAST-MODIFIED:20260423T222148Z
UID:10003558-1790622000-1790631000@lbcvibe.com
SUMMARY:Movie Mondays & Specials at Zaferia Beer Lab
DESCRIPTION:Want to shake off the Monday blues? Every Monday\, we’re transforming the Beer Lab into your local pop cinema!
URL:https://lbcvibe.com/event/movie-mondays-specials-at-zaferia-beer-lab-23/
LOCATION:Long Beach Beer Lab (Zaferia)\, 4000 East Anaheim Street\, #Ste 1a\, Long Beach\, CA\, 90804\, United States
CATEGORIES:EVENT
ATTACH;FMTTYPE=image/jpeg:https://lbcvibe.com/wp-content/uploads/2026/04/c7ff94c9f34f66d3bbcbeb87420d706d.jpg
END:VEVENT
BEGIN:VEVENT
DTSTART;TZID=America/Los_Angeles:20260929T190000
DTEND;TZID=America/Los_Angeles:20260929T233000
DTSTAMP:20260425T105928
CREATED:20260423T222234Z
LAST-MODIFIED:20260423T222234Z
UID:10003610-1790708400-1790724600@lbcvibe.com
SUMMARY:Best Karaoke In Long Beach at Roxanne's
DESCRIPTION:Karaoke Night at Roxanne’s! Grab the mic\, hype the room\, and enjoy late-night food\, drinks\, and high-energy vibes in Long Beach.
URL:https://lbcvibe.com/event/best-karaoke-in-long-beach-at-roxannes-23/
LOCATION:Roxanne’s\, 1115 E Wardlow Rd\, Long Beach\, CA\, United States
CATEGORIES:EVENT
ATTACH;FMTTYPE=image/jpeg:https://lbcvibe.com/wp-content/uploads/2026/04/b07d52b2897a891ade02be5e8e007692.jpg
GEO:33.819122;-118.17804
X-APPLE-STRUCTURED-LOCATION;VALUE=URI;X-ADDRESS=Roxanne’s 1115 E Wardlow Rd Long Beach CA United States;X-APPLE-RADIUS=500;X-TITLE=1115 E Wardlow Rd:geo:-118.17804,33.819122
END:VEVENT
BEGIN:VEVENT
DTSTART;TZID=America/Los_Angeles:20260930T190000
DTEND;TZID=America/Los_Angeles:20260930T210000
DTSTAMP:20260425T105928
CREATED:20260423T222039Z
LAST-MODIFIED:20260423T222039Z
UID:10003508-1790794800-1790802000@lbcvibe.com
SUMMARY:Trivia Nights at Wrigley Beer Lab
DESCRIPTION:Fresh batch of brain-bending trivia for all you knowledge fermenters out there!
URL:https://lbcvibe.com/event/trivia-nights-at-wrigley-beer-lab-24/
LOCATION:Long Beach Beer Lab (Wrigley)\, 518 West Willow Street\, Long Beach\, CA\, 90806\, United States
CATEGORIES:EVENT
ATTACH;FMTTYPE=image/jpeg:https://lbcvibe.com/wp-content/uploads/2026/04/daf31faf101efcdba1c254bfba7203df.jpg
END:VEVENT
BEGIN:VEVENT
DTSTART;TZID=America/Los_Angeles:20261002T210000
DTEND;TZID=America/Los_Angeles:20261003T020000
DTSTAMP:20260425T105928
CREATED:20260423T215354Z
LAST-MODIFIED:20260423T215354Z
UID:10003464-1790974800-1790992800@lbcvibe.com
SUMMARY:a dive bar night at Stache called Pop Out - Long Beach - the best deejays!
DESCRIPTION:Pop Out: a raw\, real Long Beach dive-bar night at Stache Bar — locals\, loud music\, no ego\, no cover. Pull up and meet your new friends.
URL:https://lbcvibe.com/event/a-dive-bar-night-at-stache-called-pop-out-long-beach-the-best-deejays-6/
LOCATION:The Stache Bar\, 941 East 4th Street\, Long Beach\, CA\, 90802\, United States
CATEGORIES:EVENT
ATTACH;FMTTYPE=image/jpeg:https://lbcvibe.com/wp-content/uploads/2026/04/f161a41eb9b0e514d52a8d2b3d47003b.jpg
END:VEVENT
BEGIN:VEVENT
DTSTART;TZID=America/Los_Angeles:20261003T110000
DTEND;TZID=America/Los_Angeles:20261003T120000
DTSTAMP:20260425T105928
CREATED:20251226T203848Z
LAST-MODIFIED:20251226T203848Z
UID:10003004-1791025200-1791028800@lbcvibe.com
SUMMARY:BEER YOGA at Trademark Brewing\, Long Beach
DESCRIPTION:Join us for Saturday BREWERY YOGA and namasté for a recovery beer at Trademark Brewing!
URL:https://lbcvibe.com/event/beer-yoga-at-trademark-brewing-long-beach-41/
LOCATION:Trademark Brewing\, 233 E Anaheim St\, Long Beach\, CA\, 90813\, United States
CATEGORIES:EVENT
ATTACH;FMTTYPE=image/jpeg:https://lbcvibe.com/wp-content/uploads/2025/12/1e8a110028129a0d6797d3971b725694.jpg
GEO:33.782936;-118.1903
X-APPLE-STRUCTURED-LOCATION;VALUE=URI;X-ADDRESS=Trademark Brewing 233 E Anaheim St Long Beach CA 90813 United States;X-APPLE-RADIUS=500;X-TITLE=233 E Anaheim St:geo:-118.1903,33.782936
END:VEVENT
BEGIN:VEVENT
DTSTART;TZID=America/Los_Angeles:20261005T190000
DTEND;TZID=America/Los_Angeles:20261005T213000
DTSTAMP:20260425T105928
CREATED:20260423T222148Z
LAST-MODIFIED:20260423T222148Z
UID:10003559-1791226800-1791235800@lbcvibe.com
SUMMARY:Movie Mondays & Specials at Zaferia Beer Lab
DESCRIPTION:Want to shake off the Monday blues? Every Monday\, we’re transforming the Beer Lab into your local pop cinema!
URL:https://lbcvibe.com/event/movie-mondays-specials-at-zaferia-beer-lab-24/
LOCATION:Long Beach Beer Lab (Zaferia)\, 4000 East Anaheim Street\, #Ste 1a\, Long Beach\, CA\, 90804\, United States
CATEGORIES:EVENT
ATTACH;FMTTYPE=image/jpeg:https://lbcvibe.com/wp-content/uploads/2026/04/c7ff94c9f34f66d3bbcbeb87420d706d.jpg
END:VEVENT
BEGIN:VEVENT
DTSTART;TZID=America/Los_Angeles:20261007T190000
DTEND;TZID=America/Los_Angeles:20261007T210000
DTSTAMP:20260425T105928
CREATED:20260423T222040Z
LAST-MODIFIED:20260423T222040Z
UID:10003509-1791399600-1791406800@lbcvibe.com
SUMMARY:Trivia Nights at Wrigley Beer Lab
DESCRIPTION:Fresh batch of brain-bending trivia for all you knowledge fermenters out there!
URL:https://lbcvibe.com/event/trivia-nights-at-wrigley-beer-lab-25/
LOCATION:Long Beach Beer Lab (Wrigley)\, 518 West Willow Street\, Long Beach\, CA\, 90806\, United States
CATEGORIES:EVENT
ATTACH;FMTTYPE=image/jpeg:https://lbcvibe.com/wp-content/uploads/2026/04/daf31faf101efcdba1c254bfba7203df.jpg
END:VEVENT
BEGIN:VEVENT
DTSTART;TZID=America/Los_Angeles:20261010T110000
DTEND;TZID=America/Los_Angeles:20261010T120000
DTSTAMP:20260425T105928
CREATED:20251226T203903Z
LAST-MODIFIED:20251226T203903Z
UID:10003005-1791630000-1791633600@lbcvibe.com
SUMMARY:BEER YOGA at Trademark Brewing\, Long Beach
DESCRIPTION:Join us for Saturday BREWERY YOGA and namasté for a recovery beer at Trademark Brewing!
URL:https://lbcvibe.com/event/beer-yoga-at-trademark-brewing-long-beach-42/
LOCATION:Trademark Brewing\, 233 E Anaheim St\, Long Beach\, CA\, 90813\, United States
CATEGORIES:EVENT
ATTACH;FMTTYPE=image/jpeg:https://lbcvibe.com/wp-content/uploads/2025/12/1e8a110028129a0d6797d3971b725694.jpg
GEO:33.782936;-118.1903
X-APPLE-STRUCTURED-LOCATION;VALUE=URI;X-ADDRESS=Trademark Brewing 233 E Anaheim St Long Beach CA 90813 United States;X-APPLE-RADIUS=500;X-TITLE=233 E Anaheim St:geo:-118.1903,33.782936
END:VEVENT
BEGIN:VEVENT
DTSTART;TZID=America/Los_Angeles:20261010T220000
DTEND;TZID=America/Los_Angeles:20261011T020000
DTSTAMP:20260425T105928
CREATED:20260423T215408Z
LAST-MODIFIED:20260423T215408Z
UID:10003472-1791669600-1791684000@lbcvibe.com
SUMMARY:a Loft Party Called RSVP - in Long Beach
DESCRIPTION:Curated Neighborhood Hip Hop\, Dance R&B Party by R+D – Featuring our community and  friends that create the best vibes ever. <3
URL:https://lbcvibe.com/event/a-loft-party-called-rsvp-in-long-beach-6/
LOCATION:Shannon’s At The Top\, 105 West Broadway\, Long Beach\, CA\, 90802\, United States
CATEGORIES:EVENT
ATTACH;FMTTYPE=image/jpeg:https://lbcvibe.com/wp-content/uploads/2026/04/d0f3ee5f60f1ce0914ea3d4dfd9f684c.jpg
END:VEVENT
BEGIN:VEVENT
DTSTART;TZID=America/Los_Angeles:20261011T120000
DTEND;TZID=America/Los_Angeles:20261011T170000
DTSTAMP:20260425T105928
CREATED:20260423T222232Z
LAST-MODIFIED:20260423T222232Z
UID:10003607-1791720000-1791738000@lbcvibe.com
SUMMARY:Long Beach Beer Lab 9th Anniversary & Oktoberfest!
DESCRIPTION:Celebrate Long Beach Beer Lab’s 9th Anniversary & Oktoberfest!  Join us for brews\, bites\, music & fun. Prost to 9 years!\n\n\nGet ready\, Long Beach\, because we’re throwing a party 9 years in the making… \nHere’s what’s brewin’!\n• Live Music: Jam out to live performances that will keep you grooving all afternoon long.• New Beer Releases: Satisfy your taste buds with our latest and greatest brews\, specially crafted for this epic occasion.• Special Merch: Score some exclusive 9th Anniversary & Oktoberfest swag\, perfect for commemorating the day.• Small Biz Pop-Up Shops: Support local vendors and discover unique finds while you sip and shop.• Delicious Eats: Food Menu coming closer to the date!• Stein Holding Competition: Flex those biceps and see how long you can hold a full stein—bragging rights and prizes await the strongest among us! Starts at 3pm• Kid’s Activities: Our Oktoberfest is a blast for the whole family! We’ll have bounce houses\, Face painting and balloon twisting. \nThis event is no cover and all ages!
URL:https://lbcvibe.com/event/long-beach-beer-lab-9th-anniversary-oktoberfest/
LOCATION:Long Beach Beer Lab (Wrigley)\, 518 West Willow Street\, Long Beach\, CA\, 90806\, United States
CATEGORIES:EVENT
ATTACH;FMTTYPE=image/jpeg:https://lbcvibe.com/wp-content/uploads/2026/04/e41ac36573cd44b3c059c6b4898ef60a.jpg
END:VEVENT
BEGIN:VEVENT
DTSTART;TZID=America/Los_Angeles:20261012T190000
DTEND;TZID=America/Los_Angeles:20261012T213000
DTSTAMP:20260425T105928
CREATED:20260423T222149Z
LAST-MODIFIED:20260423T222149Z
UID:10003560-1791831600-1791840600@lbcvibe.com
SUMMARY:Movie Mondays & Specials at Zaferia Beer Lab
DESCRIPTION:Want to shake off the Monday blues? Every Monday\, we’re transforming the Beer Lab into your local pop cinema!
URL:https://lbcvibe.com/event/movie-mondays-specials-at-zaferia-beer-lab-25/
LOCATION:Long Beach Beer Lab (Zaferia)\, 4000 East Anaheim Street\, #Ste 1a\, Long Beach\, CA\, 90804\, United States
CATEGORIES:EVENT
ATTACH;FMTTYPE=image/jpeg:https://lbcvibe.com/wp-content/uploads/2026/04/c7ff94c9f34f66d3bbcbeb87420d706d.jpg
END:VEVENT
BEGIN:VEVENT
DTSTART;TZID=America/Los_Angeles:20261014T190000
DTEND;TZID=America/Los_Angeles:20261014T210000
DTSTAMP:20260425T105928
CREATED:20260423T222040Z
LAST-MODIFIED:20260423T222040Z
UID:10003510-1792004400-1792011600@lbcvibe.com
SUMMARY:Trivia Nights at Wrigley Beer Lab
DESCRIPTION:Fresh batch of brain-bending trivia for all you knowledge fermenters out there!
URL:https://lbcvibe.com/event/trivia-nights-at-wrigley-beer-lab-26/
LOCATION:Long Beach Beer Lab (Wrigley)\, 518 West Willow Street\, Long Beach\, CA\, 90806\, United States
CATEGORIES:EVENT
ATTACH;FMTTYPE=image/jpeg:https://lbcvibe.com/wp-content/uploads/2026/04/daf31faf101efcdba1c254bfba7203df.jpg
END:VEVENT
BEGIN:VEVENT
DTSTART;TZID=America/Los_Angeles:20261016T210000
DTEND;TZID=America/Los_Angeles:20261017T010000
DTSTAMP:20260425T105928
CREATED:20260423T215437Z
LAST-MODIFIED:20260423T215437Z
UID:10003481-1792184400-1792198800@lbcvibe.com
SUMMARY:SALA After Dark - 21+
DESCRIPTION:SALA After Dark: Hip Hop\, R&B\, throwbacks & deep cuts in an intimate lounge built for music lovers.
URL:https://lbcvibe.com/event/sala-after-dark-21-6/
LOCATION:SALA Coffee & Wine Bar\, 3853 Atlantic Avenue\, Long Beach\, CA\, 90807\, United States
CATEGORIES:EVENT
ATTACH;FMTTYPE=image/jpeg:https://lbcvibe.com/wp-content/uploads/2026/04/ade8cd779a4a978b40343f5cf1494548.jpg
END:VEVENT
BEGIN:VEVENT
DTSTART;TZID=America/Los_Angeles:20261017T110000
DTEND;TZID=America/Los_Angeles:20261017T120000
DTSTAMP:20260425T105928
CREATED:20251226T203903Z
LAST-MODIFIED:20251226T203903Z
UID:10003006-1792234800-1792238400@lbcvibe.com
SUMMARY:BEER YOGA at Trademark Brewing\, Long Beach
DESCRIPTION:Join us for Saturday BREWERY YOGA and namasté for a recovery beer at Trademark Brewing!
URL:https://lbcvibe.com/event/beer-yoga-at-trademark-brewing-long-beach-43/
LOCATION:Trademark Brewing\, 233 E Anaheim St\, Long Beach\, CA\, 90813\, United States
CATEGORIES:EVENT
ATTACH;FMTTYPE=image/jpeg:https://lbcvibe.com/wp-content/uploads/2025/12/1e8a110028129a0d6797d3971b725694.jpg
GEO:33.782936;-118.1903
X-APPLE-STRUCTURED-LOCATION;VALUE=URI;X-ADDRESS=Trademark Brewing 233 E Anaheim St Long Beach CA 90813 United States;X-APPLE-RADIUS=500;X-TITLE=233 E Anaheim St:geo:-118.1903,33.782936
END:VEVENT
BEGIN:VEVENT
DTSTART;TZID=America/Los_Angeles:20261019T190000
DTEND;TZID=America/Los_Angeles:20261019T213000
DTSTAMP:20260425T105928
CREATED:20260423T222149Z
LAST-MODIFIED:20260423T222149Z
UID:10003561-1792436400-1792445400@lbcvibe.com
SUMMARY:Movie Mondays & Specials at Zaferia Beer Lab
DESCRIPTION:Want to shake off the Monday blues? Every Monday\, we’re transforming the Beer Lab into your local pop cinema!
URL:https://lbcvibe.com/event/movie-mondays-specials-at-zaferia-beer-lab-26/
LOCATION:Long Beach Beer Lab (Zaferia)\, 4000 East Anaheim Street\, #Ste 1a\, Long Beach\, CA\, 90804\, United States
CATEGORIES:EVENT
ATTACH;FMTTYPE=image/jpeg:https://lbcvibe.com/wp-content/uploads/2026/04/c7ff94c9f34f66d3bbcbeb87420d706d.jpg
END:VEVENT
BEGIN:VEVENT
DTSTART;TZID=America/Los_Angeles:20261021T190000
DTEND;TZID=America/Los_Angeles:20261021T210000
DTSTAMP:20260425T105928
CREATED:20260423T222040Z
LAST-MODIFIED:20260423T222040Z
UID:10003511-1792609200-1792616400@lbcvibe.com
SUMMARY:Trivia Nights at Wrigley Beer Lab
DESCRIPTION:Fresh batch of brain-bending trivia for all you knowledge fermenters out there!
URL:https://lbcvibe.com/event/trivia-nights-at-wrigley-beer-lab-27/
LOCATION:Long Beach Beer Lab (Wrigley)\, 518 West Willow Street\, Long Beach\, CA\, 90806\, United States
CATEGORIES:EVENT
ATTACH;FMTTYPE=image/jpeg:https://lbcvibe.com/wp-content/uploads/2026/04/daf31faf101efcdba1c254bfba7203df.jpg
END:VEVENT
END:VCALENDAR