BEGIN:VCALENDAR
VERSION:2.0
PRODID:-//LBC Vibe - ECPv6.15.20//NONSGML v1.0//EN
CALSCALE:GREGORIAN
METHOD:PUBLISH
X-WR-CALNAME:LBC Vibe
X-ORIGINAL-URL:https://lbcvibe.com
X-WR-CALDESC:Events for LBC Vibe
REFRESH-INTERVAL;VALUE=DURATION:PT1H
X-Robots-Tag:noindex
X-PUBLISHED-TTL:PT1H
BEGIN:VTIMEZONE
TZID:-07:00
END:VTIMEZONE
BEGIN:VTIMEZONE
TZID:America/Los_Angeles
BEGIN:DAYLIGHT
TZOFFSETFROM:-0800
TZOFFSETTO:-0700
TZNAME:PDT
DTSTART:20250309T100000
END:DAYLIGHT
BEGIN:STANDARD
TZOFFSETFROM:-0700
TZOFFSETTO:-0800
TZNAME:PST
DTSTART:20251102T090000
END:STANDARD
BEGIN:DAYLIGHT
TZOFFSETFROM:-0800
TZOFFSETTO:-0700
TZNAME:PDT
DTSTART:20260308T100000
END:DAYLIGHT
BEGIN:STANDARD
TZOFFSETFROM:-0700
TZOFFSETTO:-0800
TZNAME:PST
DTSTART:20261101T090000
END:STANDARD
BEGIN:DAYLIGHT
TZOFFSETFROM:-0800
TZOFFSETTO:-0700
TZNAME:PDT
DTSTART:20270314T100000
END:DAYLIGHT
BEGIN:STANDARD
TZOFFSETFROM:-0700
TZOFFSETTO:-0800
TZNAME:PST
DTSTART:20271107T090000
END:STANDARD
END:VTIMEZONE
BEGIN:VEVENT
DTSTART;TZID=-07:00:20260527T180000
DTEND;TZID=-07:00:20260527T220000
DTSTAMP:20260425T061527
CREATED:20260301T085051Z
LAST-MODIFIED:20260406T132056Z
UID:10003353-1779904800-1779919200@lbcvibe.com
SUMMARY:Board Game Night at The Wicked Wolf
DESCRIPTION:Welcome to our weekly board game night at *The Wicked Wolf*! We’ll have multiple tables of games going\, so if you have a game you’d like to teach\, feel free to bring it. \n📍 *The Wicked Wolf* is located at **2332 Pacific Ave\, Long Beach\, CA 90806**. \nWhen you enter the bar\, there’s a heavy door immediately to the right that leads to a stairway. Go up one flight—our private room is next to the patio. Make sure to add yourself to the sign-in sheet and grab a name tag. \n💡 *Our host has been kind enough to offer us a place to meet\, so we ask that folks purchase at least one drink during the night to support them (they have plenty of non-alcoholic options).* \n❗ *Can’t make it? Please update your RSVP so someone else can join. Repeated no-shows may lead to removal from the group\, since spots are limited. Thanks for being thoughtful\, and helping us keep things fair!*
URL:https://lbcvibe.com/event/board-game-night-at-the-wicked-wolf-13/
LOCATION:The Wicked Wolf\, 2332 Pacific Ave\, Long Beach\, CA\, 90806\, United States
ATTACH;FMTTYPE=image/jpeg:https://lbcvibe.com/wp-content/uploads/2025/06/1024x576-l7Hgjv.jpg
GEO:33.79959;-118.19347
X-APPLE-STRUCTURED-LOCATION;VALUE=URI;X-ADDRESS=The Wicked Wolf 2332 Pacific Ave Long Beach CA 90806 United States;X-APPLE-RADIUS=500;X-TITLE=2332 Pacific Ave:geo:-118.19347,33.79959
END:VEVENT
BEGIN:VEVENT
DTSTART;TZID=-07:00:20260527T180000
DTEND;TZID=-07:00:20260527T220000
DTSTAMP:20260425T061527
CREATED:20260407T132011Z
LAST-MODIFIED:20260424T132011Z
UID:10003426-1779904800-1779919200@lbcvibe.com
SUMMARY:Board Game Night at The Wicked Wolf
DESCRIPTION:Welcome to our weekly board game night at *The Wicked Wolf*! We’ll have multiple tables of games going\, so if you have a game you’d like to teach\, feel free to bring it. \n📍 *The Wicked Wolf* is located at **2332 Pacific Ave\, Long Beach\, CA 90806**. \nWhen you enter the bar\, there’s a heavy door immediately to the right that leads to a stairway. Go up one flight—our private room is next to the patio. Make sure to add yourself to the sign-in sheet and grab a name tag. \n💡 *Our host has been kind enough to offer us a place to meet\, so we ask that folks purchase at least one drink during the night to support them (they have plenty of non-alcoholic options).* \n❗ *Can’t make it? Please update your RSVP so someone else can join. Repeated no-shows may lead to removal from the group\, since spots are limited. Thanks for being thoughtful\, and helping us keep things fair!*
URL:https://lbcvibe.com/event/board-game-night-at-the-wicked-wolf-21/
LOCATION:The Wicked Wolf\, 2332 Pacific Ave\, Long Beach\, CA\, 90806\, United States
ATTACH;FMTTYPE=image/jpeg:https://lbcvibe.com/wp-content/uploads/2025/06/1024x576-l7Hgjv.jpg
GEO:33.79959;-118.19347
X-APPLE-STRUCTURED-LOCATION;VALUE=URI;X-ADDRESS=The Wicked Wolf 2332 Pacific Ave Long Beach CA 90806 United States;X-APPLE-RADIUS=500;X-TITLE=2332 Pacific Ave:geo:-118.19347,33.79959
END:VEVENT
BEGIN:VEVENT
DTSTART;TZID=America/Los_Angeles:20260527T190000
DTEND;TZID=America/Los_Angeles:20260527T210000
DTSTAMP:20260425T061527
CREATED:20260423T221958Z
LAST-MODIFIED:20260423T221958Z
UID:10003490-1779908400-1779915600@lbcvibe.com
SUMMARY:Trivia Nights at Wrigley Beer Lab
DESCRIPTION:Fresh batch of brain-bending trivia for all you knowledge fermenters out there!
URL:https://lbcvibe.com/event/trivia-nights-at-wrigley-beer-lab-6/
LOCATION:Long Beach Beer Lab (Wrigley)\, 518 West Willow Street\, Long Beach\, CA\, 90806\, United States
CATEGORIES:EVENT
ATTACH;FMTTYPE=image/jpeg:https://lbcvibe.com/wp-content/uploads/2026/04/daf31faf101efcdba1c254bfba7203df.jpg
END:VEVENT
END:VCALENDAR